BEGIN:VCALENDAR
VERSION:2.0
PRODID:-//Bottnaryd och Ryds alliansförsamlingar - ECPv6.11.2.1//NONSGML v1.0//EN
CALSCALE:GREGORIAN
METHOD:PUBLISH
X-WR-CALNAME:Bottnaryd och Ryds alliansförsamlingar
X-ORIGINAL-URL:https://bottnarydallians.se
X-WR-CALDESC:Händelser för Bottnaryd och Ryds alliansförsamlingar
REFRESH-INTERVAL;VALUE=DURATION:PT1H
X-Robots-Tag:noindex
X-PUBLISHED-TTL:PT1H
BEGIN:VTIMEZONE
TZID:Europe/Stockholm
BEGIN:DAYLIGHT
TZOFFSETFROM:+0100
TZOFFSETTO:+0200
TZNAME:CEST
DTSTART:20240331T010000
END:DAYLIGHT
BEGIN:STANDARD
TZOFFSETFROM:+0200
TZOFFSETTO:+0100
TZNAME:CET
DTSTART:20241027T010000
END:STANDARD
END:VTIMEZONE
BEGIN:VEVENT
DTSTART;TZID=Europe/Stockholm:20241123T180000
DTEND;TZID=Europe/Stockholm:20241123T190000
DTSTAMP:20260420T040922
CREATED:20241020T152614Z
LAST-MODIFIED:20241020T152614Z
UID:3769-1732384800-1732388400@bottnarydallians.se
SUMMARY:Gemenskapskväll
DESCRIPTION:Gemenskapskväll i Allianskyrkan med\nvår missionär Maria Gustafsson.
URL:https://bottnarydallians.se/event/gemenskapskvall/
LOCATION:Allianskyrkan\, Kyrkvägen 6\, Bottnaryd\, 56576\, Sverige
CATEGORIES:Allianskyrkan
END:VEVENT
END:VCALENDAR