BEGIN:VCALENDAR
VERSION:2.0
PRODID:-//Bottnaryd och Ryds alliansförsamlingar - ECPv6.11.2.1//NONSGML v1.0//EN
CALSCALE:GREGORIAN
METHOD:PUBLISH
X-WR-CALNAME:Bottnaryd och Ryds alliansförsamlingar
X-ORIGINAL-URL:https://bottnarydallians.se
X-WR-CALDESC:Händelser för Bottnaryd och Ryds alliansförsamlingar
REFRESH-INTERVAL;VALUE=DURATION:PT1H
X-Robots-Tag:noindex
X-PUBLISHED-TTL:PT1H
BEGIN:VTIMEZONE
TZID:Europe/Stockholm
BEGIN:DAYLIGHT
TZOFFSETFROM:+0100
TZOFFSETTO:+0200
TZNAME:CEST
DTSTART:20240331T010000
END:DAYLIGHT
BEGIN:STANDARD
TZOFFSETFROM:+0200
TZOFFSETTO:+0100
TZNAME:CET
DTSTART:20241027T010000
END:STANDARD
END:VTIMEZONE
BEGIN:VEVENT
DTSTART;TZID=Europe/Stockholm:20241124T100000
DTEND;TZID=Europe/Stockholm:20241124T110000
DTSTAMP:20260420T023641
CREATED:20240926T094030Z
LAST-MODIFIED:20241020T152950Z
UID:3687-1732442400-1732446000@bottnarydallians.se
SUMMARY:Gudstjänst
DESCRIPTION:Nattvard och månadsinsamling. \nLina Skoghäll. \nKungariket.
URL:https://bottnarydallians.se/event/gudstjanst-3/
LOCATION:Allianskyrkan\, Kyrkvägen 6\, Bottnaryd\, 56576\, Sverige
CATEGORIES:Allianskyrkan
END:VEVENT
BEGIN:VEVENT
DTSTART;TZID=Europe/Stockholm:20241124T173000
DTEND;TZID=Europe/Stockholm:20241124T190000
DTSTAMP:20260420T023641
CREATED:20240926T094257Z
LAST-MODIFIED:20240926T105055Z
UID:3689-1732469400-1732474800@bottnarydallians.se
SUMMARY:Djupare
DESCRIPTION:Nattvard och månadsinsamling i Sörgårdskyrkan. \nChristoffer Arvidsdal.
URL:https://bottnarydallians.se/event/djupare/
LOCATION:Sörgårdskyrkan\, Byskolevägen 34\, Bottnaryd\, 56597
CATEGORIES:Sörgårdskyrkan
END:VEVENT
BEGIN:VEVENT
DTSTART;TZID=Europe/Stockholm:20241124T180000
DTEND;TZID=Europe/Stockholm:20241124T190000
DTSTAMP:20260420T023641
CREATED:20240926T095128Z
LAST-MODIFIED:20240926T105153Z
UID:3694-1732471200-1732474800@bottnarydallians.se
SUMMARY:Söndagsbön
DESCRIPTION:Söndagsbön kl 18.00 i Allianskyrkan. \nVälkommen!
URL:https://bottnarydallians.se/event/sondagsbon-4/
LOCATION:Allianskyrkan\, Kyrkvägen 6\, Bottnaryd\, 56576\, Sverige
CATEGORIES:Allianskyrkan
END:VEVENT
END:VCALENDAR