BEGIN:VCALENDAR
VERSION:2.0
PRODID:-//Bottnaryd och Ryds alliansförsamlingar - ECPv6.11.2.1//NONSGML v1.0//EN
CALSCALE:GREGORIAN
METHOD:PUBLISH
X-ORIGINAL-URL:https://bottnarydallians.se
X-WR-CALDESC:Händelser för Bottnaryd och Ryds alliansförsamlingar
REFRESH-INTERVAL;VALUE=DURATION:PT1H
X-Robots-Tag:noindex
X-PUBLISHED-TTL:PT1H
BEGIN:VTIMEZONE
TZID:Europe/Stockholm
BEGIN:DAYLIGHT
TZOFFSETFROM:+0100
TZOFFSETTO:+0200
TZNAME:CEST
DTSTART:20240331T010000
END:DAYLIGHT
BEGIN:STANDARD
TZOFFSETFROM:+0200
TZOFFSETTO:+0100
TZNAME:CET
DTSTART:20241027T010000
END:STANDARD
END:VTIMEZONE
BEGIN:VEVENT
DTSTART;TZID=Europe/Stockholm:20241208T100000
DTEND;TZID=Europe/Stockholm:20241208T110000
DTSTAMP:20260419T195829
CREATED:20241120T100144Z
LAST-MODIFIED:20241120T101951Z
UID:3790-1733652000-1733655600@bottnarydallians.se
SUMMARY:Söndagsskolans julfest
DESCRIPTION:Söndagsskolans julfest i Sörgårdskyrkan.
URL:https://bottnarydallians.se/event/sondagsskolans-julfest/
LOCATION:Sörgårdskyrkan\, Byskolevägen 34\, Bottnaryd\, 56597
CATEGORIES:Sörgårdskyrkan
END:VEVENT
BEGIN:VEVENT
DTSTART;TZID=Europe/Stockholm:20241208T100000
DTEND;TZID=Europe/Stockholm:20241208T110000
DTSTAMP:20260419T195829
CREATED:20241120T100148Z
LAST-MODIFIED:20241120T100148Z
UID:3791-1733652000-1733655600@bottnarydallians.se
SUMMARY:Gudstjänst
DESCRIPTION:Gudstjänst Christoffer Arvidsdal. Kungarikets julfest.
URL:https://bottnarydallians.se/event/gudstjanst-6/
LOCATION:Allianskyrkan\, Kyrkvägen 6\, Bottnaryd\, 56576\, Sverige
CATEGORIES:Allianskyrkan
END:VEVENT
BEGIN:VEVENT
DTSTART;TZID=Europe/Stockholm:20241208T180000
DTEND;TZID=Europe/Stockholm:20241208T190000
DTSTAMP:20260419T195829
CREATED:20241120T100152Z
LAST-MODIFIED:20241120T100152Z
UID:3792-1733680800-1733684400@bottnarydallians.se
SUMMARY:Söndagsbön
DESCRIPTION:Söndagsbön.
URL:https://bottnarydallians.se/event/sondagsbon-6/
LOCATION:Allianskyrkan\, Kyrkvägen 6\, Bottnaryd\, 56576\, Sverige
CATEGORIES:Allianskyrkan
END:VEVENT
END:VCALENDAR