BEGIN:VCALENDAR
VERSION:2.0
PRODID:-//Bottnaryd och Ryds alliansförsamlingar - ECPv6.11.2.1//NONSGML v1.0//EN
CALSCALE:GREGORIAN
METHOD:PUBLISH
X-ORIGINAL-URL:https://bottnarydallians.se
X-WR-CALDESC:Händelser för Bottnaryd och Ryds alliansförsamlingar
REFRESH-INTERVAL;VALUE=DURATION:PT1H
X-Robots-Tag:noindex
X-PUBLISHED-TTL:PT1H
BEGIN:VTIMEZONE
TZID:Europe/Stockholm
BEGIN:DAYLIGHT
TZOFFSETFROM:+0100
TZOFFSETTO:+0200
TZNAME:CEST
DTSTART:20240331T010000
END:DAYLIGHT
BEGIN:STANDARD
TZOFFSETFROM:+0200
TZOFFSETTO:+0100
TZNAME:CET
DTSTART:20241027T010000
END:STANDARD
END:VTIMEZONE
BEGIN:VEVENT
DTSTART;TZID=Europe/Stockholm:20241224T110000
DTEND;TZID=Europe/Stockholm:20241224T120000
DTSTAMP:20260419T195817
CREATED:20241120T100212Z
LAST-MODIFIED:20241120T100212Z
UID:3795-1735038000-1735041600@bottnarydallians.se
SUMMARY:Samling kring krubban
DESCRIPTION:Samling kring krubban i Bottnaryds kyrka. Lina Skoghäll. Veronica Frendin. Barnkör.
URL:https://bottnarydallians.se/event/samling-kring-krubban-2/
LOCATION:Bottnaryds kyrka\, Kyrkvägen 12\, Bottnaryd\, 56576\, Sverige
END:VEVENT
BEGIN:VEVENT
DTSTART;TZID=Europe/Stockholm:20241224T140000
DTEND;TZID=Europe/Stockholm:20241224T180000
DTSTAMP:20260419T195817
CREATED:20241120T100217Z
LAST-MODIFIED:20241120T100217Z
UID:3796-1735048800-1735063200@bottnarydallians.se
SUMMARY:Julfirande i Allianskyrkan
DESCRIPTION:Julfirande i Allianskyrkan. Julbord\, musik\, tipspromenad och gemenskap. Alla hjärtligt välkomna!
URL:https://bottnarydallians.se/event/julfirande-i-allianskyrkan-2/
LOCATION:Allianskyrkan\, Kyrkvägen 6\, Bottnaryd\, 56576\, Sverige
CATEGORIES:Allianskyrkan
END:VEVENT
END:VCALENDAR