BEGIN:VCALENDAR
VERSION:2.0
PRODID:-//Bottnaryd och Ryds alliansförsamlingar - ECPv6.11.2.1//NONSGML v1.0//EN
CALSCALE:GREGORIAN
METHOD:PUBLISH
X-WR-CALNAME:Bottnaryd och Ryds alliansförsamlingar
X-ORIGINAL-URL:https://bottnarydallians.se
X-WR-CALDESC:Händelser för Bottnaryd och Ryds alliansförsamlingar
REFRESH-INTERVAL;VALUE=DURATION:PT1H
X-Robots-Tag:noindex
X-PUBLISHED-TTL:PT1H
BEGIN:VTIMEZONE
TZID:Europe/Stockholm
BEGIN:DAYLIGHT
TZOFFSETFROM:+0100
TZOFFSETTO:+0200
TZNAME:CEST
DTSTART:20250330T010000
END:DAYLIGHT
BEGIN:STANDARD
TZOFFSETFROM:+0200
TZOFFSETTO:+0100
TZNAME:CET
DTSTART:20251026T010000
END:STANDARD
END:VTIMEZONE
BEGIN:VEVENT
DTSTART;TZID=Europe/Stockholm:20250126T100000
DTEND;TZID=Europe/Stockholm:20250126T110000
DTSTAMP:20260419T181830
CREATED:20241120T140558Z
LAST-MODIFIED:20241120T140558Z
UID:3810-1737885600-1737889200@bottnarydallians.se
SUMMARY:Gudstjänst och årsmöte
DESCRIPTION:Gudstjänst och årsmöte i Allianskyrkan. Lina Skoghäll. Kyrklunch.
URL:https://bottnarydallians.se/event/gudstjanst-och-arsmote/
LOCATION:Allianskyrkan\, Kyrkvägen 6\, Bottnaryd\, 56576\, Sverige
END:VEVENT
BEGIN:VEVENT
DTSTART;TZID=Europe/Stockholm:20250126T173000
DTEND;TZID=Europe/Stockholm:20250126T183000
DTSTAMP:20260419T181830
CREATED:20241120T140554Z
LAST-MODIFIED:20241120T140554Z
UID:3809-1737912600-1737916200@bottnarydallians.se
SUMMARY:Djupare
DESCRIPTION:Djupare. Kenneth Petersson.
URL:https://bottnarydallians.se/event/djupare-2/
LOCATION:Sörgårdskyrkan\, Byskolevägen 34\, Bottnaryd\, 56597
END:VEVENT
END:VCALENDAR