BEGIN:VCALENDAR
VERSION:2.0
PRODID:-//Bottnaryd och Ryds alliansförsamlingar - ECPv6.11.2.1//NONSGML v1.0//EN
CALSCALE:GREGORIAN
METHOD:PUBLISH
X-WR-CALNAME:Bottnaryd och Ryds alliansförsamlingar
X-ORIGINAL-URL:https://bottnarydallians.se
X-WR-CALDESC:Händelser för Bottnaryd och Ryds alliansförsamlingar
REFRESH-INTERVAL;VALUE=DURATION:PT1H
X-Robots-Tag:noindex
X-PUBLISHED-TTL:PT1H
BEGIN:VTIMEZONE
TZID:Europe/Stockholm
BEGIN:DAYLIGHT
TZOFFSETFROM:+0100
TZOFFSETTO:+0200
TZNAME:CEST
DTSTART:20250330T010000
END:DAYLIGHT
BEGIN:STANDARD
TZOFFSETFROM:+0200
TZOFFSETTO:+0100
TZNAME:CET
DTSTART:20251026T010000
END:STANDARD
END:VTIMEZONE
BEGIN:VEVENT
DTSTART;TZID=Europe/Stockholm:20250801T110000
DTEND;TZID=Europe/Stockholm:20250801T120000
DTSTAMP:20260422T180036
CREATED:20250721T064347Z
LAST-MODIFIED:20250721T064347Z
UID:4005-1754046000-1754049600@bottnarydallians.se
SUMMARY:Innebandyhappening
DESCRIPTION:Innebandyhappening med Simon Möller på idrottsplatsen.
URL:https://bottnarydallians.se/event/innebandyhappening/
CATEGORIES:Bottnarydskretsen
END:VEVENT
BEGIN:VEVENT
DTSTART;TZID=Europe/Stockholm:20250801T140000
DTEND;TZID=Europe/Stockholm:20250801T160000
DTSTAMP:20260422T180036
CREATED:20250721T064351Z
LAST-MODIFIED:20250721T064351Z
UID:4006-1754056800-1754064000@bottnarydallians.se
SUMMARY:Våffelcafé
DESCRIPTION:Våffelcafé och happening i parken vid Allianskyrkan. För alla åldrar!
URL:https://bottnarydallians.se/event/vaffelcafe/
LOCATION:Sörgårdskyrkan\, Byskolevägen 34\, Bottnaryd\, 56597
CATEGORIES:Bottnarydskretsen
END:VEVENT
BEGIN:VEVENT
DTSTART;TZID=Europe/Stockholm:20250801T190000
DTEND;TZID=Europe/Stockholm:20250801T200000
DTSTAMP:20260422T180036
CREATED:20250721T064356Z
LAST-MODIFIED:20250721T064356Z
UID:4007-1754074800-1754078400@bottnarydallians.se
SUMMARY:Konsert
DESCRIPTION:Konsert med Simon och Matilda Möller i parken vid Allianskyrkan.
URL:https://bottnarydallians.se/event/konsert/
LOCATION:Allianskyrkan\, Kyrkvägen 6\, Bottnaryd\, 56576\, Sverige
CATEGORIES:Bottnarydskretsen
END:VEVENT
BEGIN:VEVENT
DTSTART;TZID=Europe/Stockholm:20250801T210000
DTEND;TZID=Europe/Stockholm:20250801T220000
DTSTAMP:20260422T180036
CREATED:20250721T064400Z
LAST-MODIFIED:20250721T064400Z
UID:4008-1754082000-1754085600@bottnarydallians.se
SUMMARY:Nattvardsandakt
DESCRIPTION:Nattvardsandakt i kyrkan. Christoffer Arvidsdal. Charlotte Öhman.
URL:https://bottnarydallians.se/event/nattvardsandakt-2/
LOCATION:Allianskyrkan\, Kyrkvägen 6\, Bottnaryd\, 56576\, Sverige
CATEGORIES:Bottnarydskretsen
END:VEVENT
END:VCALENDAR