BEGIN:VCALENDAR
VERSION:2.0
PRODID:-//Bottnaryd och Ryds alliansförsamlingar - ECPv6.11.2.1//NONSGML v1.0//EN
CALSCALE:GREGORIAN
METHOD:PUBLISH
X-WR-CALNAME:Bottnaryd och Ryds alliansförsamlingar
X-ORIGINAL-URL:https://bottnarydallians.se
X-WR-CALDESC:Händelser för Bottnaryd och Ryds alliansförsamlingar
REFRESH-INTERVAL;VALUE=DURATION:PT1H
X-Robots-Tag:noindex
X-PUBLISHED-TTL:PT1H
BEGIN:VTIMEZONE
TZID:Europe/Stockholm
BEGIN:DAYLIGHT
TZOFFSETFROM:+0100
TZOFFSETTO:+0200
TZNAME:CEST
DTSTART:20250330T010000
END:DAYLIGHT
BEGIN:STANDARD
TZOFFSETFROM:+0200
TZOFFSETTO:+0100
TZNAME:CET
DTSTART:20251026T010000
END:STANDARD
END:VTIMEZONE
BEGIN:VEVENT
DTSTART;TZID=Europe/Stockholm:20250831T100000
DTEND;TZID=Europe/Stockholm:20250831T110000
DTSTAMP:20260420T030108
CREATED:20250721T064717Z
LAST-MODIFIED:20250721T064717Z
UID:4022-1756634400-1756638000@bottnarydallians.se
SUMMARY:Pastorsinstallation
DESCRIPTION:Kretsgudstjänst med pastorsinstallation av Anna Klemets. Allianskyrkan. Henrik Lundström.
URL:https://bottnarydallians.se/event/pastorsinstallation/
LOCATION:Allianskyrkan\, Kyrkvägen 6\, Bottnaryd\, 56576\, Sverige
CATEGORIES:Anna Klemets,Bottnarydskretsen,Henrik Lundström
END:VEVENT
END:VCALENDAR