BEGIN:VCALENDAR
VERSION:2.0
PRODID:-//Bottnaryd och Ryds alliansförsamlingar - ECPv6.11.2.1//NONSGML v1.0//EN
CALSCALE:GREGORIAN
METHOD:PUBLISH
X-ORIGINAL-URL:https://bottnarydallians.se
X-WR-CALDESC:Händelser för Bottnaryd och Ryds alliansförsamlingar
REFRESH-INTERVAL;VALUE=DURATION:PT1H
X-Robots-Tag:noindex
X-PUBLISHED-TTL:PT1H
BEGIN:VTIMEZONE
TZID:Europe/Stockholm
BEGIN:DAYLIGHT
TZOFFSETFROM:+0100
TZOFFSETTO:+0200
TZNAME:CEST
DTSTART:20250330T010000
END:DAYLIGHT
BEGIN:STANDARD
TZOFFSETFROM:+0200
TZOFFSETTO:+0100
TZNAME:CET
DTSTART:20251026T010000
END:STANDARD
END:VTIMEZONE
BEGIN:VEVENT
DTSTART;TZID=Europe/Stockholm:20251221T180000
DTEND;TZID=Europe/Stockholm:20251221T190000
DTSTAMP:20260419T182225
CREATED:20251125T170246Z
LAST-MODIFIED:20251125T170246Z
UID:4150-1766340000-1766343600@bottnarydallians.se
SUMMARY:På tröskeln till Jul
DESCRIPTION:På tröskeln till jul. Evelina och Kristian Havsed\, Lillie Tingåker\, Mats Olsson\, Bengt Isaksson\, Anna Johansson. Insamling till Hela Människan. Servering.
URL:https://bottnarydallians.se/event/pa-troskeln-till-jul-5/
LOCATION:Allianskyrkan\, Kyrkvägen 6\, Bottnaryd\, 56576\, Sverige
CATEGORIES:Allianskyrkan,Bottnarydskretsen
END:VEVENT
END:VCALENDAR