BEGIN:VCALENDAR
VERSION:2.0
PRODID:-//Bottnaryd och Ryds alliansförsamlingar - ECPv6.11.2.1//NONSGML v1.0//EN
CALSCALE:GREGORIAN
METHOD:PUBLISH
X-ORIGINAL-URL:https://bottnarydallians.se
X-WR-CALDESC:Händelser för Bottnaryd och Ryds alliansförsamlingar
REFRESH-INTERVAL;VALUE=DURATION:PT1H
X-Robots-Tag:noindex
X-PUBLISHED-TTL:PT1H
BEGIN:VTIMEZONE
TZID:Europe/Stockholm
BEGIN:DAYLIGHT
TZOFFSETFROM:+0100
TZOFFSETTO:+0200
TZNAME:CEST
DTSTART:20250330T010000
END:DAYLIGHT
BEGIN:STANDARD
TZOFFSETFROM:+0200
TZOFFSETTO:+0100
TZNAME:CET
DTSTART:20251026T010000
END:STANDARD
END:VTIMEZONE
BEGIN:VEVENT
DTSTART;TZID=Europe/Stockholm:20251224T110000
DTEND;TZID=Europe/Stockholm:20251224T120000
DTSTAMP:20260419T195649
CREATED:20251125T170251Z
LAST-MODIFIED:20251125T170251Z
UID:4151-1766574000-1766577600@bottnarydallians.se
SUMMARY:Samling kring krubban
DESCRIPTION:Samling kring krubban i Svenska kyrkan. Veronica Frendin. Lina Skoghäll. Barnkör.
URL:https://bottnarydallians.se/event/samling-kring-krubban-3/
LOCATION:Bottnaryds kyrka\, Kyrkvägen 12\, Bottnaryd\, 56576\, Sverige
CATEGORIES:Lina Skoghäll
END:VEVENT
END:VCALENDAR