BEGIN:VCALENDAR
VERSION:2.0
PRODID:-//Bottnaryd och Ryds alliansförsamlingar - ECPv6.11.2.1//NONSGML v1.0//EN
CALSCALE:GREGORIAN
METHOD:PUBLISH
X-ORIGINAL-URL:https://bottnarydallians.se
X-WR-CALDESC:Händelser för Bottnaryd och Ryds alliansförsamlingar
REFRESH-INTERVAL;VALUE=DURATION:PT1H
X-Robots-Tag:noindex
X-PUBLISHED-TTL:PT1H
BEGIN:VTIMEZONE
TZID:Europe/Stockholm
BEGIN:DAYLIGHT
TZOFFSETFROM:+0100
TZOFFSETTO:+0200
TZNAME:CEST
DTSTART:20260329T010000
END:DAYLIGHT
BEGIN:STANDARD
TZOFFSETFROM:+0200
TZOFFSETTO:+0100
TZNAME:CET
DTSTART:20261025T010000
END:STANDARD
END:VTIMEZONE
BEGIN:VEVENT
DTSTART;TZID=Europe/Stockholm:20260427T150000
DTEND;TZID=Europe/Stockholm:20260427T170000
DTSTAMP:20260419T180705
CREATED:20260408T090348Z
LAST-MODIFIED:20260408T090348Z
UID:4352-1777302000-1777309200@bottnarydallians.se
SUMMARY:Syjunta
DESCRIPTION:Ta med eget fikabröd
URL:https://bottnarydallians.se/event/syjunta-2/
LOCATION:Allianskyrkan\, Kyrkvägen 6\, Bottnaryd\, 56576\, Sverige
CATEGORIES:Allianskyrkan
END:VEVENT
BEGIN:VEVENT
DTSTART;TZID=Europe/Stockholm:20260427T180000
DTEND;TZID=Europe/Stockholm:20260427T191500
DTSTAMP:20260419T180705
CREATED:20260408T083513Z
LAST-MODIFIED:20260408T083902Z
UID:4328-1777312800-1777317300@bottnarydallians.se
SUMMARY:Mini UV och UV-scout
DESCRIPTION:(Mini-UV\, från 7 år och UV-scout\, från 9 år)
URL:https://bottnarydallians.se/event/mini-uv-och-uv-scout-3/
LOCATION:Allianskyrkan\, Bottnaryd och Sörgårdskyrkan\, Ryd
CATEGORIES:Barn och Ungdom
END:VEVENT
END:VCALENDAR