BEGIN:VCALENDAR
VERSION:2.0
PRODID:-//Bottnaryd och Ryds alliansförsamlingar - ECPv6.11.2.1//NONSGML v1.0//EN
CALSCALE:GREGORIAN
METHOD:PUBLISH
X-ORIGINAL-URL:https://bottnarydallians.se
X-WR-CALDESC:Händelser för Bottnaryd och Ryds alliansförsamlingar
REFRESH-INTERVAL;VALUE=DURATION:PT1H
X-Robots-Tag:noindex
X-PUBLISHED-TTL:PT1H
BEGIN:VTIMEZONE
TZID:Europe/Stockholm
BEGIN:DAYLIGHT
TZOFFSETFROM:+0100
TZOFFSETTO:+0200
TZNAME:CEST
DTSTART:20260329T010000
END:DAYLIGHT
BEGIN:STANDARD
TZOFFSETFROM:+0200
TZOFFSETTO:+0100
TZNAME:CET
DTSTART:20261025T010000
END:STANDARD
END:VTIMEZONE
BEGIN:VEVENT
DTSTART;TZID=Europe/Stockholm:20260524T100000
DTEND;TZID=Europe/Stockholm:20260524T110000
DTSTAMP:20260419T193934
CREATED:20260319T150216Z
LAST-MODIFIED:20260319T150216Z
UID:4285-1779616800-1779620400@bottnarydallians.se
SUMMARY:Familjegudstjänst på Pingstdagen
DESCRIPTION:Pingstdagen. Familjegudstjänst i Allianskyrkan. Lina Skoghäll.
URL:https://bottnarydallians.se/event/familjegudstjanst-pa-pingstdagen/
LOCATION:Allianskyrkan\, Kyrkvägen 6\, Bottnaryd\, 56576\, Sverige
CATEGORIES:Allianskyrkan,Bottnarydskretsen,Lina Skoghäll
END:VEVENT
END:VCALENDAR