BEGIN:VCALENDAR
VERSION:2.0
PRODID:-//Bottnaryd och Ryds alliansförsamlingar - ECPv6.11.2.1//NONSGML v1.0//EN
CALSCALE:GREGORIAN
METHOD:PUBLISH
X-ORIGINAL-URL:https://bottnarydallians.se
X-WR-CALDESC:Händelser för Bottnaryd och Ryds alliansförsamlingar
REFRESH-INTERVAL;VALUE=DURATION:PT1H
X-Robots-Tag:noindex
X-PUBLISHED-TTL:PT1H
BEGIN:VTIMEZONE
TZID:Europe/Stockholm
BEGIN:DAYLIGHT
TZOFFSETFROM:+0100
TZOFFSETTO:+0200
TZNAME:CEST
DTSTART:20250330T010000
END:DAYLIGHT
BEGIN:STANDARD
TZOFFSETFROM:+0200
TZOFFSETTO:+0100
TZNAME:CET
DTSTART:20251026T010000
END:STANDARD
END:VTIMEZONE
BEGIN:VEVENT
DTSTART;TZID=Europe/Stockholm:20251107T190000
DTEND;TZID=Europe/Stockholm:20251107T200000
DTSTAMP:20260422T223112
CREATED:20250922T092653Z
LAST-MODIFIED:20250922T092653Z
UID:4109-1762542000-1762545600@bottnarydallians.se
SUMMARY:Café Uppdrag
DESCRIPTION:Café Uppdrag i Allianskyrkan\, drop in från 18.30
URL:https://bottnarydallians.se/event/cafe-uppdrag-4/
LOCATION:Allianskyrkan\, Kyrkvägen 6\, Bottnaryd\, 56576\, Sverige
CATEGORIES:Allianskyrkan,Bottnarydskretsen,Christoffer Arvidsdal
END:VEVENT
BEGIN:VEVENT
DTSTART;TZID=Europe/Stockholm:20251109T100000
DTEND;TZID=Europe/Stockholm:20251109T110000
DTSTAMP:20260422T223112
CREATED:20250922T092800Z
LAST-MODIFIED:20250922T092800Z
UID:4111-1762682400-1762686000@bottnarydallians.se
SUMMARY:Nattvardsgudstjänst
DESCRIPTION:Gudstjänst. Nattvard. Månadsinsamling. Lina Skoghäll.
URL:https://bottnarydallians.se/event/nattvardsgudstjanst-3/
LOCATION:Allianskyrkan\, Kyrkvägen 6\, Bottnaryd\, 56576\, Sverige
CATEGORIES:Allianskyrkan,Gudstjänst,Lina Skoghäll
END:VEVENT
BEGIN:VEVENT
DTSTART;TZID=Europe/Stockholm:20251123T100000
DTEND;TZID=Europe/Stockholm:20251123T110000
DTSTAMP:20260422T223112
CREATED:20250922T092922Z
LAST-MODIFIED:20250922T092922Z
UID:4115-1763892000-1763895600@bottnarydallians.se
SUMMARY:Gudstjänst
DESCRIPTION:Gudstjänst. Anna Klemets.
URL:https://bottnarydallians.se/event/gudstjanst-18/
LOCATION:Allianskyrkan\, Kyrkvägen 6\, Bottnaryd\, 56576\, Sverige
CATEGORIES:Allianskyrkan,Anna Klemets,Gudstjänst
END:VEVENT
BEGIN:VEVENT
DTSTART;TZID=Europe/Stockholm:20251130T100000
DTEND;TZID=Europe/Stockholm:20251130T110000
DTSTAMP:20260422T223112
CREATED:20250922T092929Z
LAST-MODIFIED:20250922T092929Z
UID:4117-1764496800-1764500400@bottnarydallians.se
SUMMARY:Adventsgudstjänst
DESCRIPTION:Första advent. Christoffer Arvidsdal. Anna Klemets. Lina Skoghäll.
URL:https://bottnarydallians.se/event/adventsgudstjanst/
LOCATION:Allianskyrkan\, Kyrkvägen 6\, Bottnaryd\, 56576\, Sverige
CATEGORIES:Allianskyrkan,Anna Klemets,Bottnarydskretsen,Christoffer Arvidsdal,Lina Skoghäll
END:VEVENT
END:VCALENDAR