BEGIN:VCALENDAR
VERSION:2.0
PRODID:-//Bottnaryd och Ryds alliansförsamlingar - ECPv6.11.2.1//NONSGML v1.0//EN
CALSCALE:GREGORIAN
METHOD:PUBLISH
X-WR-CALNAME:Bottnaryd och Ryds alliansförsamlingar
X-ORIGINAL-URL:https://bottnarydallians.se
X-WR-CALDESC:Händelser för Bottnaryd och Ryds alliansförsamlingar
REFRESH-INTERVAL;VALUE=DURATION:PT1H
X-Robots-Tag:noindex
X-PUBLISHED-TTL:PT1H
BEGIN:VTIMEZONE
TZID:Europe/Stockholm
BEGIN:DAYLIGHT
TZOFFSETFROM:+0100
TZOFFSETTO:+0200
TZNAME:CEST
DTSTART:20250330T010000
END:DAYLIGHT
BEGIN:STANDARD
TZOFFSETFROM:+0200
TZOFFSETTO:+0100
TZNAME:CET
DTSTART:20251026T010000
END:STANDARD
END:VTIMEZONE
BEGIN:VEVENT
DTSTART;TZID=Europe/Stockholm:20250511T100000
DTEND;TZID=Europe/Stockholm:20250511T110000
DTSTAMP:20260423T090132
CREATED:20250320T111644Z
LAST-MODIFIED:20250320T111644Z
UID:3880-1746957600-1746961200@bottnarydallians.se
SUMMARY:Gudstjänst och avslutning för söndagsskolan
DESCRIPTION:Gudstjänst. Avslutning för Söndagsskolan. Kenneth Petersson.
URL:https://bottnarydallians.se/event/gudstjanst-och-avslutning-for-sondagsskolan/
LOCATION:Allianskyrkan\, Kyrkvägen 6\, Bottnaryd\, 56576\, Sverige
CATEGORIES:Allianskyrkan
END:VEVENT
BEGIN:VEVENT
DTSTART;TZID=Europe/Stockholm:20250511T180000
DTEND;TZID=Europe/Stockholm:20250511T190000
DTSTAMP:20260423T090132
CREATED:20250320T111600Z
LAST-MODIFIED:20250320T111600Z
UID:3882-1746986400-1746990000@bottnarydallians.se
SUMMARY:Söndagsbön
DESCRIPTION:Söndagsbön i Allianskyrkan. Välkomna!
URL:https://bottnarydallians.se/event/sondagsbon-13/
LOCATION:Allianskyrkan\, Kyrkvägen 6\, Bottnaryd\, 56576\, Sverige
CATEGORIES:Allianskyrkan
END:VEVENT
END:VCALENDAR