BEGIN:VCALENDAR
VERSION:2.0
PRODID:-//Bottnaryd och Ryds alliansförsamlingar - ECPv6.11.2.1//NONSGML v1.0//EN
CALSCALE:GREGORIAN
METHOD:PUBLISH
X-WR-CALNAME:Bottnaryd och Ryds alliansförsamlingar
X-ORIGINAL-URL:https://bottnarydallians.se
X-WR-CALDESC:Händelser för Bottnaryd och Ryds alliansförsamlingar
REFRESH-INTERVAL;VALUE=DURATION:PT1H
X-Robots-Tag:noindex
X-PUBLISHED-TTL:PT1H
BEGIN:VTIMEZONE
TZID:Europe/Stockholm
BEGIN:DAYLIGHT
TZOFFSETFROM:+0100
TZOFFSETTO:+0200
TZNAME:CEST
DTSTART:20260329T010000
END:DAYLIGHT
BEGIN:STANDARD
TZOFFSETFROM:+0200
TZOFFSETTO:+0100
TZNAME:CET
DTSTART:20261025T010000
END:STANDARD
END:VTIMEZONE
BEGIN:VEVENT
DTSTART;TZID=Europe/Stockholm:20260424T170000
DTEND;TZID=Europe/Stockholm:20260424T190000
DTSTAMP:20260422T115607
CREATED:20260319T145308Z
LAST-MODIFIED:20260319T145308Z
UID:4274-1777050000-1777057200@bottnarydallians.se
SUMMARY:After week
DESCRIPTION:After week i Allianskyrkan.
URL:https://bottnarydallians.se/event/after-week/
LOCATION:Allianskyrkan\, Kyrkvägen 6\, Bottnaryd\, 56576\, Sverige
CATEGORIES:Allianskyrkan,Bottnarydskretsen
END:VEVENT
BEGIN:VEVENT
DTSTART;TZID=Europe/Stockholm:20260427T150000
DTEND;TZID=Europe/Stockholm:20260427T170000
DTSTAMP:20260422T115607
CREATED:20260408T090348Z
LAST-MODIFIED:20260408T090348Z
UID:4352-1777302000-1777309200@bottnarydallians.se
SUMMARY:Syjunta
DESCRIPTION:Ta med eget fikabröd
URL:https://bottnarydallians.se/event/syjunta-2/
LOCATION:Allianskyrkan\, Kyrkvägen 6\, Bottnaryd\, 56576\, Sverige
CATEGORIES:Allianskyrkan
END:VEVENT
BEGIN:VEVENT
DTSTART;TZID=Europe/Stockholm:20260430T190000
DTEND;TZID=Europe/Stockholm:20260430T200000
DTSTAMP:20260422T115607
CREATED:20260319T150136Z
LAST-MODIFIED:20260319T150136Z
UID:4277-1777575600-1777579200@bottnarydallians.se
SUMMARY:Valborgsfirande
DESCRIPTION:Uv:s valborgsfirande. Vårkör. Vårtal av Mattias Ingesson\, generalsekreterare på Erikshjälpen.
URL:https://bottnarydallians.se/event/valborgsfirande/
LOCATION:Allianskyrkan\, Kyrkvägen 6\, Bottnaryd\, 56576\, Sverige
CATEGORIES:Allianskyrkan,Bottnarydskretsen
END:VEVENT
END:VCALENDAR