BEGIN:VCALENDAR
VERSION:2.0
PRODID:-//Bottnaryd och Ryds alliansförsamlingar - ECPv6.11.2.1//NONSGML v1.0//EN
CALSCALE:GREGORIAN
METHOD:PUBLISH
X-WR-CALNAME:Bottnaryd och Ryds alliansförsamlingar
X-ORIGINAL-URL:https://bottnarydallians.se
X-WR-CALDESC:Händelser för Bottnaryd och Ryds alliansförsamlingar
REFRESH-INTERVAL;VALUE=DURATION:PT1H
X-Robots-Tag:noindex
X-PUBLISHED-TTL:PT1H
BEGIN:VTIMEZONE
TZID:Europe/Stockholm
BEGIN:DAYLIGHT
TZOFFSETFROM:+0100
TZOFFSETTO:+0200
TZNAME:CEST
DTSTART:20260329T010000
END:DAYLIGHT
BEGIN:STANDARD
TZOFFSETFROM:+0200
TZOFFSETTO:+0100
TZNAME:CET
DTSTART:20261025T010000
END:STANDARD
END:VTIMEZONE
BEGIN:VEVENT
DTSTART;TZID=Europe/Stockholm:20260430T190000
DTEND;TZID=Europe/Stockholm:20260430T200000
DTSTAMP:20260419T194738
CREATED:20260319T150136Z
LAST-MODIFIED:20260319T150136Z
UID:4277-1777575600-1777579200@bottnarydallians.se
SUMMARY:Valborgsfirande
DESCRIPTION:Uv:s valborgsfirande. Vårkör. Vårtal av Mattias Ingesson\, generalsekreterare på Erikshjälpen.
URL:https://bottnarydallians.se/event/valborgsfirande/
LOCATION:Allianskyrkan\, Kyrkvägen 6\, Bottnaryd\, 56576\, Sverige
CATEGORIES:Allianskyrkan,Bottnarydskretsen
END:VEVENT
BEGIN:VEVENT
DTSTART;TZID=Europe/Stockholm:20260501T190000
DTEND;TZID=Europe/Stockholm:20260501T223000
DTSTAMP:20260419T194738
CREATED:20260408T085140Z
LAST-MODIFIED:20260408T085140Z
UID:4340-1777662000-1777674600@bottnarydallians.se
SUMMARY:Tonår
DESCRIPTION:(13 år eller äldre)
URL:https://bottnarydallians.se/event/tonar-4/
LOCATION:Allianskyrkan\, Kyrkvägen 6\, Bottnaryd\, 56576\, Sverige
CATEGORIES:Barn och Ungdom
END:VEVENT
BEGIN:VEVENT
DTSTART;TZID=Europe/Stockholm:20260503T100000
DTEND;TZID=Europe/Stockholm:20260503T110000
DTSTAMP:20260419T194738
CREATED:20260319T150139Z
LAST-MODIFIED:20260319T150139Z
UID:4278-1777802400-1777806000@bottnarydallians.se
SUMMARY:Nattvardsgudstjänst och söndagsskola
DESCRIPTION:Nattvardsgudstjänst. Lina Skoghäll. Söndagsskola.
URL:https://bottnarydallians.se/event/nattvardsgudstjanst-och-sondagsskola/
LOCATION:Sörgårdskyrkan\, Byskolevägen 34\, Bottnaryd\, 56597
CATEGORIES:Lina Skoghäll,Sörgårdskyrkan
END:VEVENT
BEGIN:VEVENT
DTSTART;TZID=Europe/Stockholm:20260503T100000
DTEND;TZID=Europe/Stockholm:20260503T110000
DTSTAMP:20260419T194738
CREATED:20260319T150142Z
LAST-MODIFIED:20260319T150142Z
UID:4279-1777802400-1777806000@bottnarydallians.se
SUMMARY:Nattvardsgudstjänst
DESCRIPTION:Nattvardsgudstjänst och månadsinsamling. Anna Klemets.
URL:https://bottnarydallians.se/event/nattvardsgudstjanst-8/
LOCATION:Allianskyrkan\, Kyrkvägen 6\, Bottnaryd\, 56576\, Sverige
CATEGORIES:Allianskyrkan,Anna Klemets
END:VEVENT
BEGIN:VEVENT
DTSTART;TZID=Europe/Stockholm:20260508T190000
DTEND;TZID=Europe/Stockholm:20260508T223000
DTSTAMP:20260419T194738
CREATED:20260408T085324Z
LAST-MODIFIED:20260408T085324Z
UID:4342-1778266800-1778279400@bottnarydallians.se
SUMMARY:Tonår
DESCRIPTION:(13 år eller äldre)
URL:https://bottnarydallians.se/event/tonar-5/
LOCATION:Allianskyrkan\, Kyrkvägen 6\, Bottnaryd\, 56576\, Sverige
CATEGORIES:Barn och Ungdom
END:VEVENT
BEGIN:VEVENT
DTSTART;TZID=Europe/Stockholm:20260509T100000
DTEND;TZID=Europe/Stockholm:20260509T120000
DTSTAMP:20260419T194738
CREATED:20260319T150144Z
LAST-MODIFIED:20260319T150144Z
UID:4280-1778320800-1778328000@bottnarydallians.se
SUMMARY:Växtmarknad
DESCRIPTION:Växtmarknad.Servering av gofika.
URL:https://bottnarydallians.se/event/vaxtmarknad/
LOCATION:Allianskyrkan\, Kyrkvägen 6\, Bottnaryd\, 56576\, Sverige
CATEGORIES:Allianskyrkan
END:VEVENT
BEGIN:VEVENT
DTSTART;TZID=Europe/Stockholm:20260510T100000
DTEND;TZID=Europe/Stockholm:20260510T110000
DTSTAMP:20260419T194738
CREATED:20260319T150208Z
LAST-MODIFIED:20260319T151034Z
UID:4282-1778407200-1778410800@bottnarydallians.se
SUMMARY:Gudstjänst
DESCRIPTION:Gudstjänst. Anna Klemets.
URL:https://bottnarydallians.se/event/gudstjanst-25/
LOCATION:Allianskyrkan\, Kyrkvägen 6\, Bottnaryd\, 56576\, Sverige
CATEGORIES:Allianskyrkan,Anna Klemets
END:VEVENT
BEGIN:VEVENT
DTSTART;TZID=Europe/Stockholm:20260510T173000
DTEND;TZID=Europe/Stockholm:20260510T183000
DTSTAMP:20260419T194738
CREATED:20260319T150205Z
LAST-MODIFIED:20260319T150205Z
UID:4281-1778434200-1778437800@bottnarydallians.se
SUMMARY:Djupare
DESCRIPTION:Djupare. Lina Skoghäll. Förlåtande.
URL:https://bottnarydallians.se/event/djupare-11/
LOCATION:Sörgårdskyrkan\, Byskolevägen 34\, Bottnaryd\, 56597
CATEGORIES:Lina Skoghäll,Sörgårdskyrkan
END:VEVENT
BEGIN:VEVENT
DTSTART;TZID=Europe/Stockholm:20260511T150000
DTEND;TZID=Europe/Stockholm:20260511T170000
DTSTAMP:20260419T194738
CREATED:20260408T090456Z
LAST-MODIFIED:20260408T090456Z
UID:4354-1778511600-1778518800@bottnarydallians.se
SUMMARY:Syjunta
DESCRIPTION:Ta med eget fikabröd
URL:https://bottnarydallians.se/event/syjunta-3/
LOCATION:Allianskyrkan\, Kyrkvägen 6\, Bottnaryd\, 56576\, Sverige
CATEGORIES:Allianskyrkan
END:VEVENT
BEGIN:VEVENT
DTSTART;TZID=Europe/Stockholm:20260511T180000
DTEND;TZID=Europe/Stockholm:20260511T191500
DTSTAMP:20260419T194738
CREATED:20260408T083652Z
LAST-MODIFIED:20260408T083652Z
UID:4330-1778522400-1778526900@bottnarydallians.se
SUMMARY:Mini-UV och UV-scout
DESCRIPTION:(Mini-UV\, från 7 år och UV-scout\, från 9 år)
URL:https://bottnarydallians.se/event/mini-uv-och-uv-scout-4/
LOCATION:Allianskyrkan\, Bottnaryd och Sörgårdskyrkan\, Ryd
CATEGORIES:Barn och Ungdom
END:VEVENT
BEGIN:VEVENT
DTSTART;TZID=Europe/Stockholm:20260517T100000
DTEND;TZID=Europe/Stockholm:20260517T110000
DTSTAMP:20260419T194738
CREATED:20260319T150210Z
LAST-MODIFIED:20260319T150210Z
UID:4283-1779012000-1779015600@bottnarydallians.se
SUMMARY:Kretsgudstjänst med sändning från Årskonferensen
DESCRIPTION:Kretsgudstjänst i Allianskyrkan med sändning från årskonferensen på Gullbranna.
URL:https://bottnarydallians.se/event/kretsgudstjanst-med-sandning-fran-arskonferensen/
LOCATION:Allianskyrkan\, Kyrkvägen 6\, Bottnaryd\, 56576\, Sverige
CATEGORIES:Allianskyrkan,Bottnarydskretsen
END:VEVENT
BEGIN:VEVENT
DTSTART;TZID=Europe/Stockholm:20260518T180000
DTEND;TZID=Europe/Stockholm:20260518T191500
DTSTAMP:20260419T194738
CREATED:20260408T084153Z
LAST-MODIFIED:20260408T084153Z
UID:4332-1779127200-1779131700@bottnarydallians.se
SUMMARY:Mini-UV och UV-scout
DESCRIPTION:(Mini-UV\, från 7 år och UV-scout\, från 9 år)
URL:https://bottnarydallians.se/event/mini-uv-och-uv-scout-5/
LOCATION:Allianskyrkan\, Bottnaryd och Sörgårdskyrkan\, Ryd
CATEGORIES:Barn och Ungdom
END:VEVENT
BEGIN:VEVENT
DTSTART;TZID=Europe/Stockholm:20260522T190000
DTEND;TZID=Europe/Stockholm:20260522T223000
DTSTAMP:20260419T194738
CREATED:20260408T085519Z
LAST-MODIFIED:20260408T085519Z
UID:4344-1779476400-1779489000@bottnarydallians.se
SUMMARY:Tonår
DESCRIPTION:(13 år eller äldre)
URL:https://bottnarydallians.se/event/tonar-6/
LOCATION:Allianskyrkan\, Kyrkvägen 6\, Bottnaryd\, 56576\, Sverige
CATEGORIES:Barn och Ungdom
END:VEVENT
BEGIN:VEVENT
DTSTART;TZID=Europe/Stockholm:20260523T110000
DTEND;TZID=Europe/Stockholm:20260523T120000
DTSTAMP:20260419T194738
CREATED:20260319T150213Z
LAST-MODIFIED:20260319T150213Z
UID:4284-1779534000-1779537600@bottnarydallians.se
SUMMARY:Andakt på Mogården
DESCRIPTION:Andakt på Mogården. Allianskyrkan ansvarar.
URL:https://bottnarydallians.se/event/andakt-pa-mogarden-29/
LOCATION:Mogården\, Mostigen 1\, Bottnaryd\, 56576\, Sverige
CATEGORIES:Allianskyrkan
END:VEVENT
BEGIN:VEVENT
DTSTART;TZID=Europe/Stockholm:20260524T100000
DTEND;TZID=Europe/Stockholm:20260524T110000
DTSTAMP:20260419T194738
CREATED:20260319T150216Z
LAST-MODIFIED:20260319T150216Z
UID:4285-1779616800-1779620400@bottnarydallians.se
SUMMARY:Familjegudstjänst på Pingstdagen
DESCRIPTION:Pingstdagen. Familjegudstjänst i Allianskyrkan. Lina Skoghäll.
URL:https://bottnarydallians.se/event/familjegudstjanst-pa-pingstdagen/
LOCATION:Allianskyrkan\, Kyrkvägen 6\, Bottnaryd\, 56576\, Sverige
CATEGORIES:Allianskyrkan,Bottnarydskretsen,Lina Skoghäll
END:VEVENT
BEGIN:VEVENT
DTSTART;TZID=Europe/Stockholm:20260525T150000
DTEND;TZID=Europe/Stockholm:20260525T170000
DTSTAMP:20260419T194738
CREATED:20260408T090604Z
LAST-MODIFIED:20260408T090604Z
UID:4356-1779721200-1779728400@bottnarydallians.se
SUMMARY:Syjunta
DESCRIPTION:Ta med eget fikabröd
URL:https://bottnarydallians.se/event/syjunta-4/
LOCATION:Allianskyrkan\, Kyrkvägen 6\, Bottnaryd\, 56576\, Sverige
CATEGORIES:Allianskyrkan
END:VEVENT
BEGIN:VEVENT
DTSTART;TZID=Europe/Stockholm:20260525T180000
DTEND;TZID=Europe/Stockholm:20260525T191500
DTSTAMP:20260419T194738
CREATED:20260408T084323Z
LAST-MODIFIED:20260408T084439Z
UID:4334-1779732000-1779736500@bottnarydallians.se
SUMMARY:UV-scout. SOMMARAVSLUTNING
DESCRIPTION:(UV-scout\, från 9 år)
URL:https://bottnarydallians.se/event/mini-uv-och-uv-scout-sommaravslutning/
LOCATION:Allianskyrkan\, Bottnaryd och Sörgårdskyrkan\, Ryd
CATEGORIES:Barn och Ungdom
END:VEVENT
BEGIN:VEVENT
DTSTART;TZID=Europe/Stockholm:20260527T103000
DTEND;TZID=Europe/Stockholm:20260527T113000
DTSTAMP:20260419T194738
CREATED:20260319T150235Z
LAST-MODIFIED:20260319T150235Z
UID:4286-1779877800-1779881400@bottnarydallians.se
SUMMARY:Förmiddagskaffe
DESCRIPTION:Förmiddagskaffe.
URL:https://bottnarydallians.se/event/formiddagskaffe-10/
LOCATION:Sörgårdskyrkan\, Byskolevägen 34\, Bottnaryd\, 56597
CATEGORIES:Sörgårdskyrkan
END:VEVENT
BEGIN:VEVENT
DTSTART;TZID=Europe/Stockholm:20260529T190000
DTEND;TZID=Europe/Stockholm:20260529T223000
DTSTAMP:20260419T194738
CREATED:20260408T085626Z
LAST-MODIFIED:20260408T085626Z
UID:4346-1780081200-1780093800@bottnarydallians.se
SUMMARY:Tonår
DESCRIPTION:(13 år eller äldre)
URL:https://bottnarydallians.se/event/tonar-7/
LOCATION:Allianskyrkan\, Kyrkvägen 6\, Bottnaryd\, 56576\, Sverige
CATEGORIES:Barn och Ungdom
END:VEVENT
BEGIN:VEVENT
DTSTART;TZID=Europe/Stockholm:20260531T173000
DTEND;TZID=Europe/Stockholm:20260531T183000
DTSTAMP:20260419T194738
CREATED:20260319T150237Z
LAST-MODIFIED:20260319T150237Z
UID:4287-1780248600-1780252200@bottnarydallians.se
SUMMARY:Djupare
DESCRIPTION:Djupare. Christoffer Arvidsdal. Modiga.
URL:https://bottnarydallians.se/event/djupare-12/
LOCATION:Sörgårdskyrkan\, Byskolevägen 34\, Bottnaryd\, 56597
CATEGORIES:Christoffer Arvidsdal,Sörgårdskyrkan
END:VEVENT
BEGIN:VEVENT
DTSTART;TZID=Europe/Stockholm:20260531T180000
DTEND;TZID=Europe/Stockholm:20260531T190000
DTSTAMP:20260419T194738
CREATED:20260319T150240Z
LAST-MODIFIED:20260319T150240Z
UID:4288-1780250400-1780254000@bottnarydallians.se
SUMMARY:Kvällsandakt
DESCRIPTION:Kvällsandakt. Anna Klemets.
URL:https://bottnarydallians.se/event/kvallsandakt/
LOCATION:Allianskyrkan\, Kyrkvägen 6\, Bottnaryd\, 56576\, Sverige
CATEGORIES:Allianskyrkan,Anna Klemets,Gudstjänst
END:VEVENT
BEGIN:VEVENT
DTSTART;TZID=Europe/Stockholm:20260605T190000
DTEND;TZID=Europe/Stockholm:20260606T100000
DTSTAMP:20260419T194738
CREATED:20260408T085803Z
LAST-MODIFIED:20260408T085803Z
UID:4348-1780686000-1780740000@bottnarydallians.se
SUMMARY:Tonår - Hajk. SOMMARAVSLUTNING
DESCRIPTION:(13 år eller äldre)
URL:https://bottnarydallians.se/event/tonar-hajk-sommaravslutning/
LOCATION:Allianskyrkan\, Kyrkvägen 6\, Bottnaryd\, 56576\, Sverige
CATEGORIES:Barn och Ungdom
END:VEVENT
END:VCALENDAR