BEGIN:VCALENDAR
VERSION:2.0
PRODID:-//Bottnaryd och Ryds alliansförsamlingar - ECPv6.11.2.1//NONSGML v1.0//EN
CALSCALE:GREGORIAN
METHOD:PUBLISH
X-ORIGINAL-URL:https://bottnarydallians.se
X-WR-CALDESC:Händelser för Bottnaryd och Ryds alliansförsamlingar
REFRESH-INTERVAL;VALUE=DURATION:PT1H
X-Robots-Tag:noindex
X-PUBLISHED-TTL:PT1H
BEGIN:VTIMEZONE
TZID:Europe/Stockholm
BEGIN:DAYLIGHT
TZOFFSETFROM:+0100
TZOFFSETTO:+0200
TZNAME:CEST
DTSTART:20250330T010000
END:DAYLIGHT
BEGIN:STANDARD
TZOFFSETFROM:+0200
TZOFFSETTO:+0100
TZNAME:CET
DTSTART:20251026T010000
END:STANDARD
END:VTIMEZONE
BEGIN:VEVENT
DTSTART;TZID=Europe/Stockholm:20250413T100000
DTEND;TZID=Europe/Stockholm:20250413T110000
DTSTAMP:20260419T164533
CREATED:20250320T113147Z
LAST-MODIFIED:20250320T113147Z
UID:3863-1744538400-1744542000@bottnarydallians.se
SUMMARY:Gudstjänst med barnvälsignelse
DESCRIPTION:Gudstjänst. Månadsinsamling. Barnvälsignelse. Söndagsskola. Christoffer Arvidsdal. Lina Skoghäll.
URL:https://bottnarydallians.se/event/gudstjanst-med-barnvalsignelse/
LOCATION:Sörgårdskyrkan\, Byskolevägen 34\, Bottnaryd\, 56597
CATEGORIES:Christoffer Arvidsdal,Lina Skoghäll,Sörgårdskyrkan
END:VEVENT
BEGIN:VEVENT
DTSTART;TZID=Europe/Stockholm:20250413T180000
DTEND;TZID=Europe/Stockholm:20250413T190000
DTSTAMP:20260419T164533
CREATED:20250320T113102Z
LAST-MODIFIED:20250320T130304Z
UID:3864-1744567200-1744570800@bottnarydallians.se
SUMMARY:Samtalskväll kring bemötande
DESCRIPTION:Samtalskväll i Allianskyrkan kring bemötande. Kenneth Petersson.
URL:https://bottnarydallians.se/event/samtalskvall-kring-bemotande/
LOCATION:Allianskyrkan\, Kyrkvägen 6\, Bottnaryd\, 56576\, Sverige
CATEGORIES:Allianskyrkan,Kenneth Petersson
END:VEVENT
BEGIN:VEVENT
DTSTART;TZID=Europe/Stockholm:20250417T190000
DTEND;TZID=Europe/Stockholm:20250417T200000
DTSTAMP:20260419T164533
CREATED:20250320T113018Z
LAST-MODIFIED:20250320T113018Z
UID:3865-1744916400-1744920000@bottnarydallians.se
SUMMARY:Getsemanestund i Sörgårdskyrkan
DESCRIPTION:Getsemanestund med nattvard. Kenneth Petersson.
URL:https://bottnarydallians.se/event/getsemanestund-i-sorgardskyrkan-2/
LOCATION:Sörgårdskyrkan\, Byskolevägen 34\, Bottnaryd\, 56597
CATEGORIES:Kenneth Petersson,Sörgårdskyrkan
END:VEVENT
BEGIN:VEVENT
DTSTART;TZID=Europe/Stockholm:20250418T180000
DTEND;TZID=Europe/Stockholm:20250418T190000
DTSTAMP:20260419T164533
CREATED:20250320T112950Z
LAST-MODIFIED:20250320T112950Z
UID:3866-1744999200-1745002800@bottnarydallians.se
SUMMARY:Långfredagsgudstjänst
DESCRIPTION:Långfredagsgudstjänst. Karolina Claesson med vänner från Mjölby. Lina Skoghäll.
URL:https://bottnarydallians.se/event/langfredagsgudstjanst/
LOCATION:Allianskyrkan\, Kyrkvägen 6\, Bottnaryd\, 56576\, Sverige
CATEGORIES:Allianskyrkan,Lina Skoghäll
END:VEVENT
BEGIN:VEVENT
DTSTART;TZID=Europe/Stockholm:20250420T100000
DTEND;TZID=Europe/Stockholm:20250420T110000
DTSTAMP:20260419T164533
CREATED:20250320T112923Z
LAST-MODIFIED:20250320T112923Z
UID:3867-1745143200-1745146800@bottnarydallians.se
SUMMARY:Påskdagsgudstjänst
DESCRIPTION:Påskdagsgudstjänst. Påskkör. Söndagsskolan. Lina Skoghäll. Christoffer Arvidsdal. Linnéa Milutin. Närradio.
URL:https://bottnarydallians.se/event/paskdagsgudstjanst/
LOCATION:Allianskyrkan\, Kyrkvägen 6\, Bottnaryd\, 56576\, Sverige
CATEGORIES:Allianskyrkan,Bottnarydskretsen,Christoffer Arvidsdal,Lina Skoghäll,Närradio
END:VEVENT
BEGIN:VEVENT
DTSTART;TZID=Europe/Stockholm:20250421T100000
DTEND;TZID=Europe/Stockholm:20250421T120000
DTSTAMP:20260419T164533
CREATED:20250320T112844Z
LAST-MODIFIED:20250320T112844Z
UID:3868-1745229600-1745236800@bottnarydallians.se
SUMMARY:Tipspromenad och våfflor
DESCRIPTION:Tipspromenad mellan 10.00 och 12.00. Start vid Allianskyrkan.
URL:https://bottnarydallians.se/event/tipspromenad-och-vafflor-2/
LOCATION:Allianskyrkan\, Kyrkvägen 6\, Bottnaryd\, 56576\, Sverige
CATEGORIES:Allianskyrkan
END:VEVENT
BEGIN:VEVENT
DTSTART;TZID=Europe/Stockholm:20250426T090000
DTEND;TZID=Europe/Stockholm:20250426T100000
DTSTAMP:20260419T164533
CREATED:20250320T112758Z
LAST-MODIFIED:20250320T112758Z
UID:3869-1745658000-1745661600@bottnarydallians.se
SUMMARY:Städdag vid Allianskyrkan
DESCRIPTION:Städdag. Medtag egen fikakorg.
URL:https://bottnarydallians.se/event/staddag-vid-allianskyrkan/
LOCATION:Allianskyrkan\, Kyrkvägen 6\, Bottnaryd\, 56576\, Sverige
CATEGORIES:Allianskyrkan
END:VEVENT
BEGIN:VEVENT
DTSTART;TZID=Europe/Stockholm:20250427T100000
DTEND;TZID=Europe/Stockholm:20250427T110000
DTSTAMP:20260419T164533
CREATED:20250320T112744Z
LAST-MODIFIED:20250320T112744Z
UID:3870-1745748000-1745751600@bottnarydallians.se
SUMMARY:Gudstjänst och söndagsskola
DESCRIPTION:Gudstjänst. Lina Skoghäll. Söndagsskola.
URL:https://bottnarydallians.se/event/gudstjanst-och-sondagsskola/
LOCATION:Allianskyrkan\, Kyrkvägen 6\, Bottnaryd\, 56576\, Sverige
CATEGORIES:Allianskyrkan,Lina Skoghäll
END:VEVENT
BEGIN:VEVENT
DTSTART;TZID=Europe/Stockholm:20250427T180000
DTEND;TZID=Europe/Stockholm:20250427T190000
DTSTAMP:20260419T164533
CREATED:20250320T112642Z
LAST-MODIFIED:20250320T112642Z
UID:3871-1745776800-1745780400@bottnarydallians.se
SUMMARY:Söndagsbön
DESCRIPTION:Söndagsbön i Allianskyrkan. Välkomna!
URL:https://bottnarydallians.se/event/sondagsbon-15/
LOCATION:Allianskyrkan\, Kyrkvägen 6\, Bottnaryd\, 56576\, Sverige
CATEGORIES:Allianskyrkan
END:VEVENT
BEGIN:VEVENT
DTSTART;TZID=Europe/Stockholm:20250430T103000
DTEND;TZID=Europe/Stockholm:20250430T113000
DTSTAMP:20260419T164533
CREATED:20250320T112618Z
LAST-MODIFIED:20250320T112618Z
UID:3872-1746009000-1746012600@bottnarydallians.se
SUMMARY:Förmiddagskaffe i Sörgårdskyrkan
DESCRIPTION:Förmiddagskaffe.
URL:https://bottnarydallians.se/event/formiddagskaffe-i-sorgardskyrkan-25/
LOCATION:Sörgårdskyrkan\, Byskolevägen 34\, Bottnaryd\, 56597
CATEGORIES:Sörgårdskyrkan
END:VEVENT
BEGIN:VEVENT
DTSTART;TZID=Europe/Stockholm:20250430T190000
DTEND;TZID=Europe/Stockholm:20250430T200000
DTSTAMP:20260419T164533
CREATED:20250320T112555Z
LAST-MODIFIED:20250320T112555Z
UID:3873-1746039600-1746043200@bottnarydallians.se
SUMMARY:UV:s vårfest
DESCRIPTION:UV:s vårfest. Vårkör. Vårtal av Jakob Winberg. Fika.
URL:https://bottnarydallians.se/event/uvs-varfest/
LOCATION:Allianskyrkan\, Kyrkvägen 6\, Bottnaryd\, 56576\, Sverige
CATEGORIES:Bottnarydskretsen
END:VEVENT
BEGIN:VEVENT
DTSTART;TZID=Europe/Stockholm:20250504T100000
DTEND;TZID=Europe/Stockholm:20250504T110000
DTSTAMP:20260419T164533
CREATED:20250320T112532Z
LAST-MODIFIED:20250320T112532Z
UID:3874-1746352800-1746356400@bottnarydallians.se
SUMMARY:Gudstjänst i Allianskyrkan
DESCRIPTION:Gudstjänst. Nattvard. Månadsinsamling. Jakob Winberg.
URL:https://bottnarydallians.se/event/gudstjanst-i-allianskyrkan-60/
LOCATION:Allianskyrkan\, Kyrkvägen 6\, Bottnaryd\, 56576\, Sverige
CATEGORIES:Allianskyrkan
END:VEVENT
BEGIN:VEVENT
DTSTART;TZID=Europe/Stockholm:20250504T100000
DTEND;TZID=Europe/Stockholm:20250504T110000
DTSTAMP:20260419T164533
CREATED:20250320T130912Z
LAST-MODIFIED:20250320T130912Z
UID:3875-1746352800-1746356400@bottnarydallians.se
SUMMARY:Gudstjänst och söndagsskola i Sörgårdskyrkan
DESCRIPTION:Gudstjänst. Lina Skoghäll. Nattvard. Månadsinsamling. Söndagsskola
URL:https://bottnarydallians.se/event/gudstjanst-och-sondagsskola-i-sorgardskyrkan/
LOCATION:Sörgårdskyrkan\, Byskolevägen 34\, Bottnaryd\, 56597
CATEGORIES:Lina Skoghäll,Sörgårdskyrkan
END:VEVENT
BEGIN:VEVENT
DTSTART;TZID=Europe/Stockholm:20250504T180000
DTEND;TZID=Europe/Stockholm:20250504T190000
DTSTAMP:20260419T164533
CREATED:20250320T112513Z
LAST-MODIFIED:20250320T112513Z
UID:3876-1746381600-1746385200@bottnarydallians.se
SUMMARY:Söndagsbön
DESCRIPTION:Söndagsbön i Allianskyrkan. Välkomna!
URL:https://bottnarydallians.se/event/sondagsbon-14/
LOCATION:Allianskyrkan\, Kyrkvägen 6\, Bottnaryd\, 56576\, Sverige
CATEGORIES:Allianskyrkan
END:VEVENT
BEGIN:VEVENT
DTSTART;TZID=Europe/Stockholm:20250506T183000
DTEND;TZID=Europe/Stockholm:20250506T193000
DTSTAMP:20260419T164533
CREATED:20250320T112450Z
LAST-MODIFIED:20250320T112450Z
UID:3877-1746556200-1746559800@bottnarydallians.se
SUMMARY:Djupare\, i Allianskyrkan för hela kretsen.
DESCRIPTION:Djupare\, med tema ”Andlig mognad”. Kenneth Petersson.
URL:https://bottnarydallians.se/event/djupare-i-allianskyrkan-for-hela-kretsen/
LOCATION:Allianskyrkan\, Kyrkvägen 6\, Bottnaryd\, 56576\, Sverige
CATEGORIES:Allianskyrkan,Bottnarydskretsen,Kenneth Petersson
END:VEVENT
BEGIN:VEVENT
DTSTART;TZID=Europe/Stockholm:20250507T150000
DTEND;TZID=Europe/Stockholm:20250507T160000
DTSTAMP:20260419T164533
CREATED:20250320T112418Z
LAST-MODIFIED:20250320T112418Z
UID:3878-1746630000-1746633600@bottnarydallians.se
SUMMARY:Dagledigträff i Svenska kyrkan
DESCRIPTION:Dagledigträff. Svenska kyrkan. Maria Dahlin ”Lilla korset”.
URL:https://bottnarydallians.se/event/dagledigtraff-i-svenska-kyrkan/
LOCATION:Bottnaryds kyrka\, Kyrkvägen 12\, Bottnaryd\, 56576\, Sverige
END:VEVENT
BEGIN:VEVENT
DTSTART;TZID=Europe/Stockholm:20250511T100000
DTEND;TZID=Europe/Stockholm:20250511T110000
DTSTAMP:20260419T164533
CREATED:20250320T111644Z
LAST-MODIFIED:20250320T111644Z
UID:3880-1746957600-1746961200@bottnarydallians.se
SUMMARY:Gudstjänst och avslutning för söndagsskolan
DESCRIPTION:Gudstjänst. Avslutning för Söndagsskolan. Kenneth Petersson.
URL:https://bottnarydallians.se/event/gudstjanst-och-avslutning-for-sondagsskolan/
LOCATION:Allianskyrkan\, Kyrkvägen 6\, Bottnaryd\, 56576\, Sverige
CATEGORIES:Allianskyrkan
END:VEVENT
BEGIN:VEVENT
DTSTART;TZID=Europe/Stockholm:20250511T173000
DTEND;TZID=Europe/Stockholm:20250511T183000
DTSTAMP:20260419T164533
CREATED:20250320T111627Z
LAST-MODIFIED:20250320T111627Z
UID:3881-1746984600-1746988200@bottnarydallians.se
SUMMARY:Djupare
DESCRIPTION:Djupare. Lina Skoghäll.
URL:https://bottnarydallians.se/event/djupare-5/
LOCATION:Sörgårdskyrkan\, Byskolevägen 34\, Bottnaryd\, 56597
CATEGORIES:Lina Skoghäll,Sörgårdskyrkan
END:VEVENT
BEGIN:VEVENT
DTSTART;TZID=Europe/Stockholm:20250511T180000
DTEND;TZID=Europe/Stockholm:20250511T190000
DTSTAMP:20260419T164533
CREATED:20250320T111600Z
LAST-MODIFIED:20250320T111600Z
UID:3882-1746986400-1746990000@bottnarydallians.se
SUMMARY:Söndagsbön
DESCRIPTION:Söndagsbön i Allianskyrkan. Välkomna!
URL:https://bottnarydallians.se/event/sondagsbon-13/
LOCATION:Allianskyrkan\, Kyrkvägen 6\, Bottnaryd\, 56576\, Sverige
CATEGORIES:Allianskyrkan
END:VEVENT
BEGIN:VEVENT
DTSTART;TZID=Europe/Stockholm:20250517T100000
DTEND;TZID=Europe/Stockholm:20250517T120000
DTSTAMP:20260419T164533
CREATED:20250320T111822Z
LAST-MODIFIED:20250320T112133Z
UID:3879-1747476000-1747483200@bottnarydallians.se
SUMMARY:Växtmarknad vid Allianskyrkan
DESCRIPTION:Växtmarknad. Växter för trädgård och växthus\nsamt krukväxter mm.\nHar du något att skänka blir vi glada.\nServering. Alla pengar går till Barnens Ambassad i Piski\, Ukraina\nVid frågor kontakta\nAnette Svensson 073-072 89 48\neller Helena Isaksson 070-994 51 61
URL:https://bottnarydallians.se/event/vaxtmarknad-vid-allianskyrkan-4/
LOCATION:Allianskyrkan\, Kyrkvägen 6\, Bottnaryd\, 56576\, Sverige
CATEGORIES:Bottnarydskretsen,Sörgårdskyrkan
END:VEVENT
BEGIN:VEVENT
DTSTART;TZID=Europe/Stockholm:20250517T110000
DTEND;TZID=Europe/Stockholm:20250517T120000
DTSTAMP:20260419T164533
CREATED:20250320T111353Z
LAST-MODIFIED:20250320T111539Z
UID:3883-1747479600-1747483200@bottnarydallians.se
SUMMARY:Andakt på Mogården
DESCRIPTION:Andakt på Mogården. Sörgårdskyrkan ansvarar.
URL:https://bottnarydallians.se/event/andakt-pa-mogarden-19/
LOCATION:Mogården\, Mostigen 1\, Bottnaryd\, 56576\, Sverige
CATEGORIES:Sörgårdskyrkan
END:VEVENT
BEGIN:VEVENT
DTSTART;TZID=Europe/Stockholm:20250518T100000
DTEND;TZID=Europe/Stockholm:20250518T110000
DTSTAMP:20260419T164533
CREATED:20250320T110633Z
LAST-MODIFIED:20250320T110816Z
UID:3884-1747562400-1747566000@bottnarydallians.se
SUMMARY:Familjegudstjänst i Allianskyrkan
DESCRIPTION:Familjegudstjänst i Allianskyrkan. Lina Skoghäll.
URL:https://bottnarydallians.se/event/familjegudstjanst-i-allianskyrkan-4/
LOCATION:Allianskyrkan\, Kyrkvägen 6\, Bottnaryd\, 56576\, Sverige
CATEGORIES:Allianskyrkan,Lina Skoghäll
END:VEVENT
BEGIN:VEVENT
DTSTART;TZID=Europe/Stockholm:20250525T100000
DTEND;TZID=Europe/Stockholm:20250525T110000
DTSTAMP:20260419T164533
CREATED:20250320T110559Z
LAST-MODIFIED:20250320T110559Z
UID:3885-1748167200-1748170800@bottnarydallians.se
SUMMARY:Konfimationshögtid i Pingstkyrkan
DESCRIPTION:Konfirmationshögtid i Pingstkyrkan. Christoffer Arvidsdal\, Linnéa Milutin\, Pascal Andreasson.
URL:https://bottnarydallians.se/event/konfimationshogtid-i-pingstkyrkan/
LOCATION:Pingstkyrkan\, Stationsvägen 7\, Bottnaryd\, 56576\, Sverige
END:VEVENT
BEGIN:VEVENT
DTSTART;TZID=Europe/Stockholm:20250528T103000
DTEND;TZID=Europe/Stockholm:20250528T113000
DTSTAMP:20260419T164533
CREATED:20250320T110537Z
LAST-MODIFIED:20250320T110537Z
UID:3886-1748428200-1748431800@bottnarydallians.se
SUMMARY:Förmiddagskaffe i Sörgårdskyrkan
DESCRIPTION:Förmiddagskaffe.
URL:https://bottnarydallians.se/event/formiddagskaffe-i-sorgardskyrkan-24/
LOCATION:Sörgårdskyrkan\, Byskolevägen 34\, Bottnaryd\, 56597
CATEGORIES:Sörgårdskyrkan
END:VEVENT
BEGIN:VEVENT
DTSTART;TZID=Europe/Stockholm:20250531T110000
DTEND;TZID=Europe/Stockholm:20250531T120000
DTSTAMP:20260419T164533
CREATED:20250320T110319Z
LAST-MODIFIED:20250320T110319Z
UID:3887-1748689200-1748692800@bottnarydallians.se
SUMMARY:Andakt på Mogården
DESCRIPTION:Andakt på Mogården. Allianskyrkan ansvarar.
URL:https://bottnarydallians.se/event/andakt-pa-mogarden-18/
LOCATION:Mogården\, Mostigen 1\, Bottnaryd\, 56576\, Sverige
CATEGORIES:Allianskyrkan
END:VEVENT
BEGIN:VEVENT
DTSTART;TZID=Europe/Stockholm:20250601T100000
DTEND;TZID=Europe/Stockholm:20250601T110000
DTSTAMP:20260419T164533
CREATED:20250518T182409Z
LAST-MODIFIED:20250518T182409Z
UID:3956-1748772000-1748775600@bottnarydallians.se
SUMMARY:Storbild från årskonferensen
DESCRIPTION:Sändning av gudstjänst från årskonferensen i Gullbranna. Visas på storbild i Allianskyrkan. Medtag egen fikakorg.
URL:https://bottnarydallians.se/event/storbild-fran-arskonferensen/
LOCATION:Allianskyrkan\, Kyrkvägen 6\, Bottnaryd\, 56576\, Sverige
CATEGORIES:Allianskyrkan,Bottnarydskretsen
END:VEVENT
BEGIN:VEVENT
DTSTART;TZID=Europe/Stockholm:20250608T100000
DTEND;TZID=Europe/Stockholm:20250608T120000
DTSTAMP:20260419T164533
CREATED:20250518T182413Z
LAST-MODIFIED:20250606T073439Z
UID:3957-1749376800-1749384000@bottnarydallians.se
SUMMARY:Ekumenisk gudstjänst i Svenska Kyrkan
DESCRIPTION:Ekumenisk gudstjänst i Svenska Kyrkan. Lina Skoghäll\, Kenneth Petersson och Jan Hyllstam.
URL:https://bottnarydallians.se/event/ekumenisk-gudstjanst-i-svenska-kyrkan/
LOCATION:Bottnaryds kyrka\, Kyrkvägen 12\, Bottnaryd\, 56576\, Sverige
CATEGORIES:Lina Skoghäll
END:VEVENT
BEGIN:VEVENT
DTSTART;TZID=Europe/Stockholm:20250615T110000
DTEND;TZID=Europe/Stockholm:20250615T120000
DTSTAMP:20260419T164533
CREATED:20250518T182418Z
LAST-MODIFIED:20250518T182418Z
UID:3958-1749985200-1749988800@bottnarydallians.se
SUMMARY:Kretsgudstjänst för alla åldrar på Klinta
DESCRIPTION:Kretsgudstjänst för alla åldrar på Klinta. Lina Skoghäll. Korvgrillning efter gudstjänsten.
URL:https://bottnarydallians.se/event/kretsgudstjanst-for-alla-aldrar-pa-klinta/
LOCATION:Klinta
CATEGORIES:Bottnarydskretsen,Lina Skoghäll
END:VEVENT
BEGIN:VEVENT
DTSTART;TZID=Europe/Stockholm:20250618T103000
DTEND;TZID=Europe/Stockholm:20250618T113000
DTSTAMP:20260419T164533
CREATED:20250518T182422Z
LAST-MODIFIED:20250518T182422Z
UID:3959-1750242600-1750246200@bottnarydallians.se
SUMMARY:Förmiddagskaffe i Sörgårdskyrkan
DESCRIPTION:Förmiddagskaffe.
URL:https://bottnarydallians.se/event/formiddagskaffe-i-sorgardskyrkan-26/
LOCATION:Sörgårdskyrkan\, Byskolevägen 34\, Bottnaryd\, 56597
CATEGORIES:Sörgårdskyrkan
END:VEVENT
BEGIN:VEVENT
DTSTART;TZID=Europe/Stockholm:20250622T100000
DTEND;TZID=Europe/Stockholm:20250622T110000
DTSTAMP:20260419T164533
CREATED:20250518T182426Z
LAST-MODIFIED:20250518T182426Z
UID:3960-1750586400-1750590000@bottnarydallians.se
SUMMARY:Gudstjänst i Olsbo Missionshus
DESCRIPTION:Gudstjänst\, Olsbo Missionshus. Leif Larsson. Damgrupp. Kyrkkaffe.
URL:https://bottnarydallians.se/event/gudstjanst-i-olsbo-missionshus/
CATEGORIES:Bottnarydskretsen
END:VEVENT
END:VCALENDAR