BEGIN:VCALENDAR
VERSION:2.0
PRODID:-//Bottnaryd och Ryds alliansförsamlingar - ECPv6.11.2.1//NONSGML v1.0//EN
CALSCALE:GREGORIAN
METHOD:PUBLISH
X-ORIGINAL-URL:https://bottnarydallians.se
X-WR-CALDESC:Händelser för Bottnaryd och Ryds alliansförsamlingar
REFRESH-INTERVAL;VALUE=DURATION:PT1H
X-Robots-Tag:noindex
X-PUBLISHED-TTL:PT1H
BEGIN:VTIMEZONE
TZID:Europe/Stockholm
BEGIN:DAYLIGHT
TZOFFSETFROM:+0100
TZOFFSETTO:+0200
TZNAME:CEST
DTSTART:20260329T010000
END:DAYLIGHT
BEGIN:STANDARD
TZOFFSETFROM:+0200
TZOFFSETTO:+0100
TZNAME:CET
DTSTART:20261025T010000
END:STANDARD
END:VTIMEZONE
BEGIN:VEVENT
DTSTART;TZID=Europe/Stockholm:20260206T183000
DTEND;TZID=Europe/Stockholm:20260206T193000
DTSTAMP:20260420T005736
CREATED:20260118T204917Z
LAST-MODIFIED:20260118T204917Z
UID:4207-1770402600-1770406200@bottnarydallians.se
SUMMARY:SAUs Årsmöte
DESCRIPTION:SAUs Årsmöte. Bottnaryd Allianskyrka.
URL:https://bottnarydallians.se/event/saus-arsmote/
LOCATION:Allianskyrkan\, Kyrkvägen 6\, Bottnaryd\, 56576\, Sverige
CATEGORIES:Allianskyrkan
END:VEVENT
BEGIN:VEVENT
DTSTART;TZID=Europe/Stockholm:20260207T110000
DTEND;TZID=Europe/Stockholm:20260207T120000
DTSTAMP:20260420T005736
CREATED:20260118T204921Z
LAST-MODIFIED:20260118T204921Z
UID:4208-1770462000-1770465600@bottnarydallians.se
SUMMARY:Andakt på Mogården
DESCRIPTION:Andakt på Mogården. Sörgårdskyrkan ansvarar.
URL:https://bottnarydallians.se/event/andakt-pa-mogarden-26/
LOCATION:Mogården\, Mostigen 1\, Bottnaryd\, 56576\, Sverige
CATEGORIES:Sörgårdskyrkan
END:VEVENT
BEGIN:VEVENT
DTSTART;TZID=Europe/Stockholm:20260208T100000
DTEND;TZID=Europe/Stockholm:20260208T110000
DTSTAMP:20260420T005736
CREATED:20260118T204924Z
LAST-MODIFIED:20260118T204924Z
UID:4209-1770544800-1770548400@bottnarydallians.se
SUMMARY:Nattvardsgudstjänst
DESCRIPTION:Nattvardsgudstjänst. Christoffer Arvidsdal.
URL:https://bottnarydallians.se/event/nattvardsgudstjanst-5/
LOCATION:Allianskyrkan\, Kyrkvägen 6\, Bottnaryd\, 56576\, Sverige
CATEGORIES:Allianskyrkan,Christoffer Arvidsdal
END:VEVENT
BEGIN:VEVENT
DTSTART;TZID=Europe/Stockholm:20260215T100000
DTEND;TZID=Europe/Stockholm:20260215T110000
DTSTAMP:20260420T005736
CREATED:20260118T204936Z
LAST-MODIFIED:20260118T204936Z
UID:4210-1771149600-1771153200@bottnarydallians.se
SUMMARY:Kretsgudstjänst
DESCRIPTION:Kretsgudstjänst i Allianskyrkan. Glimt från skidlägret. Lina Skoghäll.
URL:https://bottnarydallians.se/event/kretsgudstjanst-3/
LOCATION:Allianskyrkan\, Kyrkvägen 6\, Bottnaryd\, 56576\, Sverige
CATEGORIES:Bottnarydskretsen,Lina Skoghäll
END:VEVENT
BEGIN:VEVENT
DTSTART;TZID=Europe/Stockholm:20260222T100000
DTEND;TZID=Europe/Stockholm:20260222T110000
DTSTAMP:20260420T005736
CREATED:20260118T204944Z
LAST-MODIFIED:20260118T204944Z
UID:4212-1771754400-1771758000@bottnarydallians.se
SUMMARY:Gudstjänst med närradio
DESCRIPTION:Gudstjänst med närradio. Anna Klemets.
URL:https://bottnarydallians.se/event/gudstjanst-med-narradio/
LOCATION:Allianskyrkan\, Kyrkvägen 6\, Bottnaryd\, 56576\, Sverige
CATEGORIES:Allianskyrkan,Anna Klemets,Närradio
END:VEVENT
BEGIN:VEVENT
DTSTART;TZID=Europe/Stockholm:20260222T173000
DTEND;TZID=Europe/Stockholm:20260222T183000
DTSTAMP:20260420T005736
CREATED:20260118T204941Z
LAST-MODIFIED:20260118T204941Z
UID:4211-1771781400-1771785000@bottnarydallians.se
SUMMARY:Djupare
DESCRIPTION:Djupare. Lina Skoghäll.
URL:https://bottnarydallians.se/event/djupare-9/
LOCATION:Sörgårdskyrkan\, Byskolevägen 34\, Bottnaryd\, 56597
CATEGORIES:Lina Skoghäll,Sörgårdskyrkan
END:VEVENT
BEGIN:VEVENT
DTSTART;TZID=Europe/Stockholm:20260225T103000
DTEND;TZID=Europe/Stockholm:20260225T113000
DTSTAMP:20260420T005736
CREATED:20260118T204949Z
LAST-MODIFIED:20260118T204949Z
UID:4213-1772015400-1772019000@bottnarydallians.se
SUMMARY:Förmiddagskaffe
DESCRIPTION:Förmiddagskaffe i Sörgårdskyrkan.
URL:https://bottnarydallians.se/event/formiddagskaffe-7/
LOCATION:Sörgårdskyrkan\, Byskolevägen 34\, Bottnaryd\, 56597
CATEGORIES:Sörgårdskyrkan
END:VEVENT
BEGIN:VEVENT
DTSTART;TZID=Europe/Stockholm:20260227T183000
DTEND;TZID=Europe/Stockholm:20260227T193000
DTSTAMP:20260420T005736
CREATED:20260118T204954Z
LAST-MODIFIED:20260118T204954Z
UID:4214-1772217000-1772220600@bottnarydallians.se
SUMMARY:Bibelhelg i Pingstkyrkan
DESCRIPTION:Bibelsamtal. Fredrik Wenell. Pingstkyrkan.
URL:https://bottnarydallians.se/event/bibelhelg-i-pingstkyrkan/
LOCATION:Pingstkyrkan\, Stationsvägen 7\, Bottnaryd\, 56576\, Sverige
END:VEVENT
BEGIN:VEVENT
DTSTART;TZID=Europe/Stockholm:20260228T160000
DTEND;TZID=Europe/Stockholm:20260228T170000
DTSTAMP:20260420T005736
CREATED:20260118T205137Z
LAST-MODIFIED:20260118T205137Z
UID:4215-1772294400-1772298000@bottnarydallians.se
SUMMARY:Bibelhelg i Pingstkyrkan
DESCRIPTION:Bibelstudium. Fredrik Wenell. Pingstkyrkan.
URL:https://bottnarydallians.se/event/bibelhelg-i-pingstkyrkan-2/
LOCATION:Pingstkyrkan\, Stationsvägen 7\, Bottnaryd\, 56576\, Sverige
END:VEVENT
BEGIN:VEVENT
DTSTART;TZID=Europe/Stockholm:20260228T180000
DTEND;TZID=Europe/Stockholm:20260228T190000
DTSTAMP:20260420T005736
CREATED:20260118T205143Z
LAST-MODIFIED:20260118T205143Z
UID:4216-1772301600-1772305200@bottnarydallians.se
SUMMARY:Bibelhelg i Pingstkyrkan
DESCRIPTION:Bibelstudium. Fredrik Wenell. Pingstkyrkan.
URL:https://bottnarydallians.se/event/bibelhelg-i-pingstkyrkan-3/
LOCATION:Pingstkyrkan\, Stationsvägen 7\, Bottnaryd\, 56576\, Sverige
END:VEVENT
BEGIN:VEVENT
DTSTART;TZID=Europe/Stockholm:20260301T100000
DTEND;TZID=Europe/Stockholm:20260301T110000
DTSTAMP:20260420T005736
CREATED:20260118T205146Z
LAST-MODIFIED:20260118T205146Z
UID:4217-1772359200-1772362800@bottnarydallians.se
SUMMARY:Ekumenisk gudstjänst i Pingstkyrkan
DESCRIPTION:Ekumenisk gudstjänst. Fredrik Wenell. Pingstkyrkan.
URL:https://bottnarydallians.se/event/ekumenisk-gudstjanst-i-pingstkyrkan/
LOCATION:Pingstkyrkan\, Stationsvägen 7\, Bottnaryd\, 56576\, Sverige
END:VEVENT
BEGIN:VEVENT
DTSTART;TZID=Europe/Stockholm:20260307T110000
DTEND;TZID=Europe/Stockholm:20260307T120000
DTSTAMP:20260420T005736
CREATED:20260118T205150Z
LAST-MODIFIED:20260118T205150Z
UID:4218-1772881200-1772884800@bottnarydallians.se
SUMMARY:Andakt på Mogården
DESCRIPTION:Andakt på Mogården. Allianskyrkan ansvarar.
URL:https://bottnarydallians.se/event/andakt-pa-mogarden-27/
LOCATION:Mogården\, Mostigen 1\, Bottnaryd\, 56576\, Sverige
CATEGORIES:Allianskyrkan
END:VEVENT
BEGIN:VEVENT
DTSTART;TZID=Europe/Stockholm:20260308T100000
DTEND;TZID=Europe/Stockholm:20260308T110000
DTSTAMP:20260420T005736
CREATED:20260118T205155Z
LAST-MODIFIED:20260118T205155Z
UID:4219-1772964000-1772967600@bottnarydallians.se
SUMMARY:Nattvardsgudstjänst
DESCRIPTION:Nattvardsgudstjänst. Lina Skoghäll.
URL:https://bottnarydallians.se/event/nattvardsgudstjanst-6/
LOCATION:Allianskyrkan\, Kyrkvägen 6\, Bottnaryd\, 56576\, Sverige
CATEGORIES:Allianskyrkan,Lina Skoghäll
END:VEVENT
BEGIN:VEVENT
DTSTART;TZID=Europe/Stockholm:20260315T100000
DTEND;TZID=Europe/Stockholm:20260315T110000
DTSTAMP:20260420T005736
CREATED:20260118T205301Z
LAST-MODIFIED:20260118T205301Z
UID:4220-1773568800-1773572400@bottnarydallians.se
SUMMARY:Missionsgudstjänst och Kretsårsmöte
DESCRIPTION:Missionsgudstjänst med Peder Wendefors. Kretsårsmöte. Allianskyrkan.
URL:https://bottnarydallians.se/event/missionsgudstjanst-och-kretsarsmote/
LOCATION:Allianskyrkan\, Kyrkvägen 6\, Bottnaryd\, 56576\, Sverige
CATEGORIES:Bottnarydskretsen
END:VEVENT
BEGIN:VEVENT
DTSTART;TZID=Europe/Stockholm:20260319T180000
DTEND;TZID=Europe/Stockholm:20260319T193000
DTSTAMP:20260420T005736
CREATED:20260311T080129Z
LAST-MODIFIED:20260311T080129Z
UID:4254-1773943200-1773948600@bottnarydallians.se
SUMMARY:En bättre digital barndom
DESCRIPTION:Torsdag den 19 mars kl 18.00 får vi besök av KI-DS i Allianskyrkan för en viktig och aktuell föreläsning om hur vi skapar sunda och trygga digitala vanor för våra barn. \n\nSmartphones & sociala medier – hur påverkas barns hjärnor och kognitiva förmåga?\nDolda faror online – t.ex. rekrytering och manipulation.\nVanliga argument från barn – och hur vi kan bemöta dem ur ett cybersäkerhetsperspektiv.\nKonkreta strategier för hemmet\, skolan och samhället.\n\nRekommenderas för vuxna då innehållet kan upplevas som känsligt. \nFri entré – men begränsat antal platser! \nVarmt välkommen till en kväll som berör\, utrustar och ger hopp om en bättre digital framtid för våra barn.
URL:https://bottnarydallians.se/event/en-battre-digital-barndom/
LOCATION:Allianskyrkan\, Kyrkvägen 6\, Bottnaryd\, 56576\, Sverige
CATEGORIES:Allianskyrkan
END:VEVENT
BEGIN:VEVENT
DTSTART;TZID=Europe/Stockholm:20260322T110000
DTEND;TZID=Europe/Stockholm:20260322T120000
DTSTAMP:20260420T005736
CREATED:20260118T205305Z
LAST-MODIFIED:20260311T073914Z
UID:4221-1774177200-1774180800@bottnarydallians.se
SUMMARY:Barnkörlägergudstjänst
DESCRIPTION:Barnkörlägergudstjänst i Allianskyrkan. \nObservera att tiden är 11.00
URL:https://bottnarydallians.se/event/barnkorlagergudstjanst/
LOCATION:Allianskyrkan\, Kyrkvägen 6\, Bottnaryd\, 56576\, Sverige
CATEGORIES:Bottnarydskretsen
END:VEVENT
BEGIN:VEVENT
DTSTART;TZID=Europe/Stockholm:20260325T103000
DTEND;TZID=Europe/Stockholm:20260325T113000
DTSTAMP:20260420T005736
CREATED:20260118T205308Z
LAST-MODIFIED:20260118T205308Z
UID:4222-1774434600-1774438200@bottnarydallians.se
SUMMARY:Förmiddagskaffe
DESCRIPTION:Förmiddagskaffe.
URL:https://bottnarydallians.se/event/formiddagskaffe-8/
LOCATION:Sörgårdskyrkan\, Byskolevägen 34\, Bottnaryd\, 56597
CATEGORIES:Sörgårdskyrkan
END:VEVENT
BEGIN:VEVENT
DTSTART;TZID=Europe/Stockholm:20260329T100000
DTEND;TZID=Europe/Stockholm:20260329T110000
DTSTAMP:20260420T005736
CREATED:20260118T205311Z
LAST-MODIFIED:20260118T205311Z
UID:4223-1774778400-1774782000@bottnarydallians.se
SUMMARY:Nattvardsgudstjänst
DESCRIPTION:Nattvardsgudstjänst. Anna Klemets.
URL:https://bottnarydallians.se/event/nattvardsgudstjanst-7/
LOCATION:Sörgårdskyrkan\, Byskolevägen 34\, Bottnaryd\, 56597
CATEGORIES:Anna Klemets,Sörgårdskyrkan
END:VEVENT
BEGIN:VEVENT
DTSTART;TZID=Europe/Stockholm:20260329T100000
DTEND;TZID=Europe/Stockholm:20260329T110000
DTSTAMP:20260420T005736
CREATED:20260118T205314Z
LAST-MODIFIED:20260118T205314Z
UID:4224-1774778400-1774782000@bottnarydallians.se
SUMMARY:Gudstjänst
DESCRIPTION:Gudstjänst. Lina Skoghäll.
URL:https://bottnarydallians.se/event/gudstjanst-22/
LOCATION:Allianskyrkan\, Kyrkvägen 6\, Bottnaryd\, 56576\, Sverige
CATEGORIES:Allianskyrkan,Lina Skoghäll
END:VEVENT
BEGIN:VEVENT
DTSTART;TZID=Europe/Stockholm:20260402T190000
DTEND;TZID=Europe/Stockholm:20260402T200000
DTSTAMP:20260420T005736
CREATED:20260319T145236Z
LAST-MODIFIED:20260319T145236Z
UID:4266-1775156400-1775160000@bottnarydallians.se
SUMMARY:Getsemanestund i Sörgårdskyrkan
DESCRIPTION:Getsemanestund med nattvard. Lina Skoghäll. Sörgårdskyrkan.
URL:https://bottnarydallians.se/event/getsemanestund-i-sorgardskyrkan-3/
LOCATION:Sörgårdskyrkan\, Byskolevägen 34\, Bottnaryd\, 56597
CATEGORIES:Bottnarydskretsen,Gudstjänst,Lina Skoghäll,Sörgårdskyrkan
END:VEVENT
BEGIN:VEVENT
DTSTART;TZID=Europe/Stockholm:20260403T180000
DTEND;TZID=Europe/Stockholm:20260403T190000
DTSTAMP:20260420T005736
CREATED:20260319T145239Z
LAST-MODIFIED:20260403T080803Z
UID:4267-1775239200-1775242800@bottnarydallians.se
SUMMARY:Långfredagsgudstjänst
DESCRIPTION:Långfredagsgudstjänst i Allianskyrkan. \nAnna Klemets. \nOBS! Höglandsbröderna från Nässjö har fått förhinder i stället blir det\nsång av Lina Skoghäll och Anna Johansson. \nServering.
URL:https://bottnarydallians.se/event/langfredagsgudstjanst-2/
LOCATION:Allianskyrkan\, Kyrkvägen 6\, Bottnaryd\, 56576\, Sverige
CATEGORIES:Allianskyrkan,Bottnarydskretsen
END:VEVENT
BEGIN:VEVENT
DTSTART;TZID=Europe/Stockholm:20260405T100000
DTEND;TZID=Europe/Stockholm:20260405T110000
DTSTAMP:20260420T005736
CREATED:20260319T145243Z
LAST-MODIFIED:20260319T145243Z
UID:4268-1775383200-1775386800@bottnarydallians.se
SUMMARY:Påskdagsgudstjänst
DESCRIPTION:Påskdagsgudstjänst i Allianskyrkan. Söndagsskolan. Marica Nyberg. Lina Skoghäll. Christoffer Arvidsdal. Anna Klemets. Alfons Duveskog
URL:https://bottnarydallians.se/event/paskdagsgudstjanst-2/
LOCATION:Allianskyrkan\, Kyrkvägen 6\, Bottnaryd\, 56576\, Sverige
CATEGORIES:Alfons Duveskog,Anna Klemets,Bottnarydskretsen,Christoffer Arvidsdal,Gudstjänst,Lina Skoghäll
END:VEVENT
BEGIN:VEVENT
DTSTART;TZID=Europe/Stockholm:20260406T100000
DTEND;TZID=Europe/Stockholm:20260406T110000
DTSTAMP:20260420T005736
CREATED:20260319T145246Z
LAST-MODIFIED:20260319T145246Z
UID:4269-1775469600-1775473200@bottnarydallians.se
SUMMARY:Tipspromenad och våffelservering
DESCRIPTION:Tipspromenad. Start vid Allianskyrkan. Våffelservering.
URL:https://bottnarydallians.se/event/tipspromenad-och-vaffelservering/
LOCATION:Allianskyrkan\, Kyrkvägen 6\, Bottnaryd\, 56576\, Sverige
CATEGORIES:Allianskyrkan
END:VEVENT
BEGIN:VEVENT
DTSTART;TZID=Europe/Stockholm:20260410T190000
DTEND;TZID=Europe/Stockholm:20260410T223000
DTSTAMP:20260420T005736
CREATED:20260408T075708Z
LAST-MODIFIED:20260408T085019Z
UID:4306-1775847600-1775860200@bottnarydallians.se
SUMMARY:Tonår
DESCRIPTION:(13 år eller äldre)
URL:https://bottnarydallians.se/event/tonar/
LOCATION:Allianskyrkan\, Kyrkvägen 6\, Bottnaryd\, 56576\, Sverige
CATEGORIES:Barn och Ungdom
END:VEVENT
BEGIN:VEVENT
DTSTART;TZID=Europe/Stockholm:20260412T100000
DTEND;TZID=Europe/Stockholm:20260412T110000
DTSTAMP:20260420T005736
CREATED:20260319T145249Z
LAST-MODIFIED:20260319T145249Z
UID:4270-1775988000-1775991600@bottnarydallians.se
SUMMARY:Gudstjänst
DESCRIPTION:Gudstjänst. Lina Skoghäll. Styrelseinfo.
URL:https://bottnarydallians.se/event/gudstjanst-23/
LOCATION:Allianskyrkan\, Kyrkvägen 6\, Bottnaryd\, 56576\, Sverige
CATEGORIES:Allianskyrkan,Lina Skoghäll
END:VEVENT
BEGIN:VEVENT
DTSTART;TZID=Europe/Stockholm:20260413T150000
DTEND;TZID=Europe/Stockholm:20260413T170000
DTSTAMP:20260420T005736
CREATED:20260408T090105Z
LAST-MODIFIED:20260408T090105Z
UID:4350-1776092400-1776099600@bottnarydallians.se
SUMMARY:Syjunta
DESCRIPTION:Ta med eget fikabröd
URL:https://bottnarydallians.se/event/syjunta/
LOCATION:Allianskyrkan\, Kyrkvägen 6\, Bottnaryd\, 56576\, Sverige
CATEGORIES:Allianskyrkan
END:VEVENT
BEGIN:VEVENT
DTSTART;TZID=Europe/Stockholm:20260413T180000
DTEND;TZID=Europe/Stockholm:20260413T191500
DTSTAMP:20260420T005736
CREATED:20260408T081659Z
LAST-MODIFIED:20260408T083719Z
UID:4313-1776103200-1776107700@bottnarydallians.se
SUMMARY:Mini-UV och UV-scout
DESCRIPTION:(Mini-UV\, från 7 år och UV-scout\, från 9 år)
URL:https://bottnarydallians.se/event/mini-uv-och-uv-scout/
LOCATION:Allianskyrkan\, Bottnaryd och Sörgårdskyrkan\, Ryd
CATEGORIES:Barn och Ungdom
END:VEVENT
BEGIN:VEVENT
DTSTART;TZID=Europe/Stockholm:20260416T180000
DTEND;TZID=Europe/Stockholm:20260416T200000
DTSTAMP:20260420T005736
CREATED:20260408T090821Z
LAST-MODIFIED:20260408T090821Z
UID:4358-1776362400-1776369600@bottnarydallians.se
SUMMARY:Språkcafé
DESCRIPTION:
URL:https://bottnarydallians.se/event/sprakcafe/
LOCATION:Allianskyrkan\, Kyrkvägen 6\, Bottnaryd\, 56576\, Sverige
CATEGORIES:Bottnarydskretsen
END:VEVENT
BEGIN:VEVENT
DTSTART;TZID=Europe/Stockholm:20260417T190000
DTEND;TZID=Europe/Stockholm:20260417T223000
DTSTAMP:20260420T005736
CREATED:20260408T080057Z
LAST-MODIFIED:20260408T084947Z
UID:4308-1776452400-1776465000@bottnarydallians.se
SUMMARY:Tonår
DESCRIPTION:(13 år eller äldre)
URL:https://bottnarydallians.se/event/tonar-2/
LOCATION:Allianskyrkan\, Kyrkvägen 6\, Bottnaryd\, 56576\, Sverige
CATEGORIES:Barn och Ungdom
END:VEVENT
BEGIN:VEVENT
DTSTART;TZID=Europe/Stockholm:20260418T110000
DTEND;TZID=Europe/Stockholm:20260418T120000
DTSTAMP:20260420T005736
CREATED:20260319T145257Z
LAST-MODIFIED:20260319T145257Z
UID:4271-1776510000-1776513600@bottnarydallians.se
SUMMARY:Andakt på Mogården
DESCRIPTION:Andakt på Mogården. Sörgårdskyrkan ansvarar.
URL:https://bottnarydallians.se/event/andakt-pa-mogarden-28/
LOCATION:Mogården\, Mostigen 1\, Bottnaryd\, 56576\, Sverige
CATEGORIES:Sörgårdskyrkan
END:VEVENT
END:VCALENDAR