BEGIN:VCALENDAR
VERSION:2.0
PRODID:-//Bottnaryd och Ryds alliansförsamlingar - ECPv6.11.2.1//NONSGML v1.0//EN
CALSCALE:GREGORIAN
METHOD:PUBLISH
X-ORIGINAL-URL:https://bottnarydallians.se
X-WR-CALDESC:Händelser för Bottnaryd och Ryds alliansförsamlingar
REFRESH-INTERVAL;VALUE=DURATION:PT1H
X-Robots-Tag:noindex
X-PUBLISHED-TTL:PT1H
BEGIN:VTIMEZONE
TZID:Europe/Stockholm
BEGIN:DAYLIGHT
TZOFFSETFROM:+0100
TZOFFSETTO:+0200
TZNAME:CEST
DTSTART:20250330T010000
END:DAYLIGHT
BEGIN:STANDARD
TZOFFSETFROM:+0200
TZOFFSETTO:+0100
TZNAME:CET
DTSTART:20251026T010000
END:STANDARD
END:VTIMEZONE
BEGIN:VEVENT
DTSTART;TZID=Europe/Stockholm:20250202T100000
DTEND;TZID=Europe/Stockholm:20250202T110000
DTSTAMP:20260419T150235
CREATED:20241120T140744Z
LAST-MODIFIED:20250116T185253Z
UID:3812-1738490400-1738494000@bottnarydallians.se
SUMMARY:Gudstjänst och årsmöte
DESCRIPTION:Gudstjänst och årsmöte. Nattvard. Månadsinsamling. Lina Skoghäll. Kyrklunch. Söndagsskolan.
URL:https://bottnarydallians.se/event/gudstjanst-och-arsmote-2/
LOCATION:Sörgårdskyrkan\, Byskolevägen 34\, Bottnaryd\, 56597
CATEGORIES:Lina Skoghäll,Sörgårdskyrkan
END:VEVENT
BEGIN:VEVENT
DTSTART;TZID=Europe/Stockholm:20250202T100000
DTEND;TZID=Europe/Stockholm:20250202T110000
DTSTAMP:20260419T150235
CREATED:20250116T185303Z
LAST-MODIFIED:20250126T183641Z
UID:3821-1738490400-1738494000@bottnarydallians.se
SUMMARY:Gudstjänst
DESCRIPTION:Gudstjänst. Kenneth Petersson. Nattvard. Månadsinsamling. Kungariket.
URL:https://bottnarydallians.se/event/gudstjanst-9/
LOCATION:Allianskyrkan\, Kyrkvägen 6\, Bottnaryd\, 56576\, Sverige
CATEGORIES:Allianskyrkan,Kenneth Petersson
END:VEVENT
BEGIN:VEVENT
DTSTART;TZID=Europe/Stockholm:20250202T180000
DTEND;TZID=Europe/Stockholm:20250202T190000
DTSTAMP:20260419T150235
CREATED:20250116T185307Z
LAST-MODIFIED:20250116T185307Z
UID:3822-1738519200-1738522800@bottnarydallians.se
SUMMARY:Start för söndagsbönen.
DESCRIPTION:Start för söndagsbönen. Välkommen!
URL:https://bottnarydallians.se/event/start-for-sondagsbonen/
LOCATION:Allianskyrkan\, Kyrkvägen 6\, Bottnaryd\, 56576\, Sverige
CATEGORIES:Allianskyrkan
END:VEVENT
BEGIN:VEVENT
DTSTART;TZID=Europe/Stockholm:20250205T150000
DTEND;TZID=Europe/Stockholm:20250205T160000
DTSTAMP:20260419T150235
CREATED:20250116T185312Z
LAST-MODIFIED:20250116T185312Z
UID:3823-1738767600-1738771200@bottnarydallians.se
SUMMARY:Dagledigträff
DESCRIPTION:Dagledigträff. Svenska Kyrkan\, församlingshemmet. Palle Bjurenstedt.
URL:https://bottnarydallians.se/event/dagledigtraff-6/
LOCATION:Bottnaryds församlingshem\, Kyrkvägen 12\, Bottnaryd\, 56576
CATEGORIES:Allianskyrkan
END:VEVENT
BEGIN:VEVENT
DTSTART;TZID=Europe/Stockholm:20250209T100000
DTEND;TZID=Europe/Stockholm:20250209T110000
DTSTAMP:20260419T150235
CREATED:20250116T185316Z
LAST-MODIFIED:20250116T185316Z
UID:3824-1739095200-1739098800@bottnarydallians.se
SUMMARY:Kretsgudstjänst i Allianskyrkan
DESCRIPTION:Kretsgudstjänst i Allianskyrkan. Vi ber och ger. Ingemar Karlsson.
URL:https://bottnarydallians.se/event/kretsgudstjanst-i-allianskyrkan-17/
LOCATION:Allianskyrkan\, Kyrkvägen 6\, Bottnaryd\, 56576\, Sverige
CATEGORIES:Allianskyrkan,Bottnarydskretsen
END:VEVENT
BEGIN:VEVENT
DTSTART;TZID=Europe/Stockholm:20250209T180000
DTEND;TZID=Europe/Stockholm:20250209T190000
DTSTAMP:20260419T150235
CREATED:20250116T185327Z
LAST-MODIFIED:20250116T185327Z
UID:3825-1739124000-1739127600@bottnarydallians.se
SUMMARY:Söndagsbön
DESCRIPTION:Söndagsbön. Välkommen!
URL:https://bottnarydallians.se/event/sondagsbon-7/
LOCATION:Allianskyrkan\, Kyrkvägen 6\, Bottnaryd\, 56576\, Sverige
CATEGORIES:Allianskyrkan
END:VEVENT
BEGIN:VEVENT
DTSTART;TZID=Europe/Stockholm:20250216T100000
DTEND;TZID=Europe/Stockholm:20250216T110000
DTSTAMP:20260419T150235
CREATED:20250116T185337Z
LAST-MODIFIED:20250116T185337Z
UID:3827-1739700000-1739703600@bottnarydallians.se
SUMMARY:Gudstjänst
DESCRIPTION:Gudstjänst. Christoffer Arvidsdal.
URL:https://bottnarydallians.se/event/gudstjanst-10/
LOCATION:Allianskyrkan\, Kyrkvägen 6\, Bottnaryd\, 56576\, Sverige
CATEGORIES:Allianskyrkan,Christoffer Arvidsdal
END:VEVENT
BEGIN:VEVENT
DTSTART;TZID=Europe/Stockholm:20250216T173000
DTEND;TZID=Europe/Stockholm:20250216T183000
DTSTAMP:20260419T150235
CREATED:20250116T185332Z
LAST-MODIFIED:20250116T185332Z
UID:3826-1739727000-1739730600@bottnarydallians.se
SUMMARY:Djupare
DESCRIPTION:Djupare. Kenneth Petersson.
URL:https://bottnarydallians.se/event/djupare-3/
LOCATION:Sörgårdskyrkan\, Byskolevägen 34\, Bottnaryd\, 56597
CATEGORIES:Kenneth Petersson,Sörgårdskyrkan
END:VEVENT
BEGIN:VEVENT
DTSTART;TZID=Europe/Stockholm:20250216T180000
DTEND;TZID=Europe/Stockholm:20250216T190000
DTSTAMP:20260419T150235
CREATED:20250116T185341Z
LAST-MODIFIED:20250116T185341Z
UID:3828-1739728800-1739732400@bottnarydallians.se
SUMMARY:Söndagsbön
DESCRIPTION:Söndagsbön. Välkommen!
URL:https://bottnarydallians.se/event/sondagsbon-8/
LOCATION:Allianskyrkan\, Kyrkvägen 6\, Bottnaryd\, 56576\, Sverige
CATEGORIES:Allianskyrkan
END:VEVENT
BEGIN:VEVENT
DTSTART;TZID=Europe/Stockholm:20250223T100000
DTEND;TZID=Europe/Stockholm:20250223T110000
DTSTAMP:20260419T150235
CREATED:20250116T185346Z
LAST-MODIFIED:20250116T185346Z
UID:3829-1740304800-1740308400@bottnarydallians.se
SUMMARY:Kretsgudstjänst med glimtar från skidlägret
DESCRIPTION:Kretsgudstjänst med glimtar från skidlägret i Allianskyrkan\, Lina Skoghäll.
URL:https://bottnarydallians.se/event/kretsgudstjanst-med-glimtar-fran-skidlagret/
LOCATION:Allianskyrkan\, Kyrkvägen 6\, Bottnaryd\, 56576\, Sverige
CATEGORIES:Bottnarydskretsen,Lina Skoghäll
END:VEVENT
BEGIN:VEVENT
DTSTART;TZID=Europe/Stockholm:20250223T180000
DTEND;TZID=Europe/Stockholm:20250223T190000
DTSTAMP:20260419T150235
CREATED:20250116T185357Z
LAST-MODIFIED:20250116T185357Z
UID:3830-1740333600-1740337200@bottnarydallians.se
SUMMARY:Söndagsbön
DESCRIPTION:Söndagsbön. Välkommen!
URL:https://bottnarydallians.se/event/sondagsbon-9/
LOCATION:Allianskyrkan\, Kyrkvägen 6\, Bottnaryd\, 56576\, Sverige
CATEGORIES:Allianskyrkan
END:VEVENT
BEGIN:VEVENT
DTSTART;TZID=Europe/Stockholm:20250226T103000
DTEND;TZID=Europe/Stockholm:20250226T113000
DTSTAMP:20260419T150235
CREATED:20250116T185401Z
LAST-MODIFIED:20250116T185401Z
UID:3831-1740565800-1740569400@bottnarydallians.se
SUMMARY:Förmiddagskaffe i Sörgårdskyrkan
DESCRIPTION:Förmiddagskaffe. Välkommen!
URL:https://bottnarydallians.se/event/formiddagskaffe-i-sorgardskyrkan-22/
LOCATION:Sörgårdskyrkan\, Byskolevägen 34\, Bottnaryd\, 56597
CATEGORIES:Sörgårdskyrkan
END:VEVENT
BEGIN:VEVENT
DTSTART;TZID=Europe/Stockholm:20250228T190000
DTEND;TZID=Europe/Stockholm:20250228T200000
DTSTAMP:20260419T150235
CREATED:20250116T185407Z
LAST-MODIFIED:20250116T185407Z
UID:3832-1740769200-1740772800@bottnarydallians.se
SUMMARY:Kvällsmöte i Sörgårdskyrkan
DESCRIPTION:Kvällsmöte i Sörgårdskyrkan. Christoffer Arvidsdal.
URL:https://bottnarydallians.se/event/kvallsmote-i-sorgardskyrkan/
LOCATION:Sörgårdskyrkan\, Byskolevägen 34\, Bottnaryd\, 56597
CATEGORIES:Bottnarydskretsen,Christoffer Arvidsdal,Sörgårdskyrkan
END:VEVENT
END:VCALENDAR