BEGIN:VCALENDAR
VERSION:2.0
PRODID:-//Bottnaryd och Ryds alliansförsamlingar - ECPv6.11.2.1//NONSGML v1.0//EN
CALSCALE:GREGORIAN
METHOD:PUBLISH
X-ORIGINAL-URL:https://bottnarydallians.se
X-WR-CALDESC:Händelser för Bottnaryd och Ryds alliansförsamlingar
REFRESH-INTERVAL;VALUE=DURATION:PT1H
X-Robots-Tag:noindex
X-PUBLISHED-TTL:PT1H
BEGIN:VTIMEZONE
TZID:Europe/Stockholm
BEGIN:DAYLIGHT
TZOFFSETFROM:+0100
TZOFFSETTO:+0200
TZNAME:CEST
DTSTART:20250330T010000
END:DAYLIGHT
BEGIN:STANDARD
TZOFFSETFROM:+0200
TZOFFSETTO:+0100
TZNAME:CET
DTSTART:20251026T010000
END:STANDARD
END:VTIMEZONE
BEGIN:VEVENT
DTSTART;TZID=Europe/Stockholm:20250706T100000
DTEND;TZID=Europe/Stockholm:20250706T110000
DTSTAMP:20260422T132309
CREATED:20250518T182441Z
LAST-MODIFIED:20250518T182441Z
UID:3962-1751796000-1751799600@bottnarydallians.se
SUMMARY:Kretsgudstjänst i Sörgårdskyrkan
DESCRIPTION:Kretsgudstjänst i Sörgårdskyrkan. Joel Frank\, ALT-student predikar.
URL:https://bottnarydallians.se/event/kretsgudstjanst-i-sorgardskyrkan-9/
LOCATION:Sörgårdskyrkan\, Byskolevägen 34\, Bottnaryd\, 56597
CATEGORIES:Sörgårdskyrkan
END:VEVENT
BEGIN:VEVENT
DTSTART;TZID=Europe/Stockholm:20250720T100000
DTEND;TZID=Europe/Stockholm:20250720T110000
DTSTAMP:20260422T132309
CREATED:20250518T182445Z
LAST-MODIFIED:20250518T182445Z
UID:3963-1753005600-1753009200@bottnarydallians.se
SUMMARY:Kretsgudstjänst i Allianskyrkan
DESCRIPTION:Kretsgudstjänst i Allianskyrkan. Per Johansson\, Folk och Språk.
URL:https://bottnarydallians.se/event/kretsgudstjanst-i-allianskyrkan-19/
LOCATION:Allianskyrkan\, Kyrkvägen 6\, Bottnaryd\, 56576\, Sverige
CATEGORIES:Allianskyrkan
END:VEVENT
BEGIN:VEVENT
DTSTART;TZID=Europe/Stockholm:20250730T190000
DTEND;TZID=Europe/Stockholm:20250730T200000
DTSTAMP:20260422T132309
CREATED:20250721T064319Z
LAST-MODIFIED:20250721T064319Z
UID:4000-1753902000-1753905600@bottnarydallians.se
SUMMARY:Bottnarydskonferensen\, startmöte
DESCRIPTION:Tappa inte modet. Församlingens pastorer. Helena Gatås med kör.
URL:https://bottnarydallians.se/event/bottnarydskonferensen-startmote/
LOCATION:Allianskyrkan\, Kyrkvägen 6\, Bottnaryd\, 56576\, Sverige
CATEGORIES:Bottnarydskretsen
END:VEVENT
BEGIN:VEVENT
DTSTART;TZID=Europe/Stockholm:20250731T110000
DTEND;TZID=Europe/Stockholm:20250731T120000
DTSTAMP:20260422T132309
CREATED:20250721T064323Z
LAST-MODIFIED:20250721T064323Z
UID:4001-1753959600-1753963200@bottnarydallians.se
SUMMARY:Bibelstudie
DESCRIPTION:Vision för nationen – Nehemja bok. Bibelstudie med Anders-Petter Sjödin.
URL:https://bottnarydallians.se/event/bibelstudie/
LOCATION:Allianskyrkan\, Kyrkvägen 6\, Bottnaryd\, 56576\, Sverige
CATEGORIES:Bottnarydskretsen
END:VEVENT
BEGIN:VEVENT
DTSTART;TZID=Europe/Stockholm:20250731T163000
DTEND;TZID=Europe/Stockholm:20250731T173000
DTSTAMP:20260422T132309
CREATED:20250721T064328Z
LAST-MODIFIED:20250721T064328Z
UID:4002-1753979400-1753983000@bottnarydallians.se
SUMMARY:Bibelstudie
DESCRIPTION:Fridsfursten – Att följa fridsfursten i en tid av ofrid. Bibelstudie med Anders-Petter Sjödin.
URL:https://bottnarydallians.se/event/bibelstudie-2/
LOCATION:Allianskyrkan\, Kyrkvägen 6\, Bottnaryd\, 56576\, Sverige
CATEGORIES:Bottnarydskretsen
END:VEVENT
BEGIN:VEVENT
DTSTART;TZID=Europe/Stockholm:20250731T163000
DTEND;TZID=Europe/Stockholm:20250731T173000
DTSTAMP:20260422T132309
CREATED:20250721T064333Z
LAST-MODIFIED:20250721T064333Z
UID:4003-1753979400-1753983000@bottnarydallians.se
SUMMARY:Barnmöte
DESCRIPTION:Barnmöte: ”Vad i hela friden?”
URL:https://bottnarydallians.se/event/barnmote/
LOCATION:Allianskyrkan\, Kyrkvägen 6\, Bottnaryd\, 56576\, Sverige
CATEGORIES:Bottnarydskretsen
END:VEVENT
BEGIN:VEVENT
DTSTART;TZID=Europe/Stockholm:20250731T190000
DTEND;TZID=Europe/Stockholm:20250731T200000
DTSTAMP:20260422T132309
CREATED:20250721T064337Z
LAST-MODIFIED:20250721T064337Z
UID:4004-1753988400-1753992000@bottnarydallians.se
SUMMARY:Kvällsmöte
DESCRIPTION:Att röra vid mantelfliken. Anders-Petter Sjödin. Frida Simonsson\, Kristin Brink.
URL:https://bottnarydallians.se/event/kvallsmote/
LOCATION:Allianskyrkan\, Kyrkvägen 6\, Bottnaryd\, 56576\, Sverige
CATEGORIES:Bottnarydskretsen
END:VEVENT
END:VCALENDAR