BEGIN:VCALENDAR
VERSION:2.0
PRODID:-//Bottnaryd och Ryds alliansförsamlingar - ECPv6.11.2.1//NONSGML v1.0//EN
CALSCALE:GREGORIAN
METHOD:PUBLISH
X-ORIGINAL-URL:https://bottnarydallians.se
X-WR-CALDESC:Händelser för Bottnaryd och Ryds alliansförsamlingar
REFRESH-INTERVAL;VALUE=DURATION:PT1H
X-Robots-Tag:noindex
X-PUBLISHED-TTL:PT1H
BEGIN:VTIMEZONE
TZID:Europe/Stockholm
BEGIN:DAYLIGHT
TZOFFSETFROM:+0100
TZOFFSETTO:+0200
TZNAME:CEST
DTSTART:20250330T010000
END:DAYLIGHT
BEGIN:STANDARD
TZOFFSETFROM:+0200
TZOFFSETTO:+0100
TZNAME:CET
DTSTART:20251026T010000
END:STANDARD
END:VTIMEZONE
BEGIN:VEVENT
DTSTART;TZID=Europe/Stockholm:20250907T180000
DTEND;TZID=Europe/Stockholm:20250907T190000
DTSTAMP:20260419T235702
CREATED:20250721T064721Z
LAST-MODIFIED:20250721T064721Z
UID:4023-1757268000-1757271600@bottnarydallians.se
SUMMARY:Kvällsgudstjänst
DESCRIPTION:Kvällsgudstjänst. Lina Skoghäll.
URL:https://bottnarydallians.se/event/kvallsgudstjanst/
LOCATION:Allianskyrkan\, Kyrkvägen 6\, Bottnaryd\, 56576\, Sverige
CATEGORIES:Allianskyrkan,Gudstjänst,Lina Skoghäll
END:VEVENT
BEGIN:VEVENT
DTSTART;TZID=Europe/Stockholm:20250913T090000
DTEND;TZID=Europe/Stockholm:20250913T120000
DTSTAMP:20260419T235702
CREATED:20250721T064726Z
LAST-MODIFIED:20250825T071944Z
UID:4024-1757754000-1757764800@bottnarydallians.se
SUMMARY:NPF-utbildning
DESCRIPTION:NPF-utbildning för barn och ungdomsledare i Allianskyrkan. Mer info kommer.
URL:https://bottnarydallians.se/event/npf-utbildning/
LOCATION:Allianskyrkan\, Kyrkvägen 6\, Bottnaryd\, 56576\, Sverige
CATEGORIES:Bottnarydskretsen
END:VEVENT
BEGIN:VEVENT
DTSTART;TZID=Europe/Stockholm:20250914T100000
DTEND;TZID=Europe/Stockholm:20250914T110000
DTSTAMP:20260419T235702
CREATED:20250721T064908Z
LAST-MODIFIED:20250721T064908Z
UID:4025-1757844000-1757847600@bottnarydallians.se
SUMMARY:Kretsgudstjänst
DESCRIPTION:Kretsgudstjänst med avtackning av Kenneth Petersson. Allianskyrkan. Lina Skoghäll.
URL:https://bottnarydallians.se/event/kretsgudstjanst-2/
LOCATION:Allianskyrkan\, Kyrkvägen 6\, Bottnaryd\, 56576\, Sverige
CATEGORIES:Bottnarydskretsen,Kenneth Petersson,Lina Skoghäll
END:VEVENT
BEGIN:VEVENT
DTSTART;TZID=Europe/Stockholm:20250921T100000
DTEND;TZID=Europe/Stockholm:20250921T110000
DTSTAMP:20260419T235702
CREATED:20250721T064913Z
LAST-MODIFIED:20250721T064913Z
UID:4026-1758448800-1758452400@bottnarydallians.se
SUMMARY:Gudstjänst
DESCRIPTION:Gudstjänst. Nattvard. Jakob Winberg.
URL:https://bottnarydallians.se/event/gudstjanst-16/
LOCATION:Allianskyrkan\, Kyrkvägen 6\, Bottnaryd\, 56576\, Sverige
CATEGORIES:Allianskyrkan,Gudstjänst
END:VEVENT
BEGIN:VEVENT
DTSTART;TZID=Europe/Stockholm:20250928T100000
DTEND;TZID=Europe/Stockholm:20250928T110000
DTSTAMP:20260419T235702
CREATED:20250721T064917Z
LAST-MODIFIED:20250721T064917Z
UID:4027-1759053600-1759057200@bottnarydallians.se
SUMMARY:Hajkgudstjänst
DESCRIPTION:Hajkgudstjänst på Klinta. Lina Skoghäll.
URL:https://bottnarydallians.se/event/hajkgudstjanst/
LOCATION:Klinta
CATEGORIES:Bottnarydskretsen,Lina Skoghäll
END:VEVENT
END:VCALENDAR