BEGIN:VCALENDAR
VERSION:2.0
PRODID:-//Bottnaryd och Ryds alliansförsamlingar - ECPv6.11.2.1//NONSGML v1.0//EN
CALSCALE:GREGORIAN
METHOD:PUBLISH
X-ORIGINAL-URL:https://bottnarydallians.se
X-WR-CALDESC:Händelser för Bottnaryd och Ryds alliansförsamlingar
REFRESH-INTERVAL;VALUE=DURATION:PT1H
X-Robots-Tag:noindex
X-PUBLISHED-TTL:PT1H
BEGIN:VTIMEZONE
TZID:Europe/Stockholm
BEGIN:DAYLIGHT
TZOFFSETFROM:+0100
TZOFFSETTO:+0200
TZNAME:CEST
DTSTART:20250330T010000
END:DAYLIGHT
BEGIN:STANDARD
TZOFFSETFROM:+0200
TZOFFSETTO:+0100
TZNAME:CET
DTSTART:20251026T010000
END:STANDARD
END:VTIMEZONE
BEGIN:VEVENT
DTSTART;TZID=Europe/Stockholm:20251004T110000
DTEND;TZID=Europe/Stockholm:20251004T120000
DTSTAMP:20260419T201923
CREATED:20250922T092620Z
LAST-MODIFIED:20250922T092620Z
UID:4101-1759575600-1759579200@bottnarydallians.se
SUMMARY:Andakt på Mogården
DESCRIPTION:Andakt på Mogården. Allianskyrkan ansvarar.
URL:https://bottnarydallians.se/event/andakt-pa-mogarden-23/
LOCATION:Mogården\, Mostigen 1\, Bottnaryd\, 56576\, Sverige
CATEGORIES:Allianskyrkan
END:VEVENT
BEGIN:VEVENT
DTSTART;TZID=Europe/Stockholm:20251005T100000
DTEND;TZID=Europe/Stockholm:20251005T110000
DTSTAMP:20260419T201923
CREATED:20250922T092625Z
LAST-MODIFIED:20250922T092625Z
UID:4102-1759658400-1759662000@bottnarydallians.se
SUMMARY:Nattvardsgudstjänst
DESCRIPTION:Gudstjänst. Nattvard. Månadsinsamling. Christoffer Arvidsdal.
URL:https://bottnarydallians.se/event/nattvardsgudstjanst/
LOCATION:Sörgårdskyrkan\, Byskolevägen 34\, Bottnaryd\, 56597
CATEGORIES:Christoffer Arvidsdal,Gudstjänst,Sörgårdskyrkan
END:VEVENT
BEGIN:VEVENT
DTSTART;TZID=Europe/Stockholm:20251012T100000
DTEND;TZID=Europe/Stockholm:20251012T110000
DTSTAMP:20260419T201923
CREATED:20250922T092627Z
LAST-MODIFIED:20250922T092627Z
UID:4103-1760263200-1760266800@bottnarydallians.se
SUMMARY:Tacksägelsegudstjänst
DESCRIPTION:Ekumenisk Tacksägelsegudstjänst i Svenska kyrkan. Besök av Open Doors.
URL:https://bottnarydallians.se/event/tacksagelsegudstjanst/
LOCATION:Bottnaryds kyrka\, Kyrkvägen 12\, Bottnaryd\, 56576\, Sverige
CATEGORIES:Bottnarydskretsen,Gudstjänst
END:VEVENT
BEGIN:VEVENT
DTSTART;TZID=Europe/Stockholm:20251019T100000
DTEND;TZID=Europe/Stockholm:20251019T110000
DTSTAMP:20260419T201923
CREATED:20250922T092631Z
LAST-MODIFIED:20250922T092631Z
UID:4104-1760868000-1760871600@bottnarydallians.se
SUMMARY:Närradiogudstjänst
DESCRIPTION:Närradio. Anna Klemets.
URL:https://bottnarydallians.se/event/narradiogudstjanst/
LOCATION:Allianskyrkan\, Kyrkvägen 6\, Bottnaryd\, 56576\, Sverige
CATEGORIES:Anna Klemets,Gudstjänst,Närradio
END:VEVENT
BEGIN:VEVENT
DTSTART;TZID=Europe/Stockholm:20251026T100000
DTEND;TZID=Europe/Stockholm:20251026T110000
DTSTAMP:20260419T201923
CREATED:20250922T092644Z
LAST-MODIFIED:20250922T092644Z
UID:4106-1761472800-1761476400@bottnarydallians.se
SUMMARY:Gudstjänst
DESCRIPTION:Gudstjänst. Lina Skoghäll.
URL:https://bottnarydallians.se/event/gudstjanst-17/
LOCATION:Allianskyrkan\, Kyrkvägen 6\, Bottnaryd\, 56576\, Sverige
CATEGORIES:Allianskyrkan,Gudstjänst,Lina Skoghäll
END:VEVENT
BEGIN:VEVENT
DTSTART;TZID=Europe/Stockholm:20251026T173000
DTEND;TZID=Europe/Stockholm:20251026T183000
DTSTAMP:20260419T201923
CREATED:20250922T092640Z
LAST-MODIFIED:20250922T092640Z
UID:4105-1761499800-1761503400@bottnarydallians.se
SUMMARY:Djupare
DESCRIPTION:Djupare. Kenneth Petersson.
URL:https://bottnarydallians.se/event/djupare-7/
LOCATION:Sörgårdskyrkan\, Byskolevägen 34\, Bottnaryd\, 56597
CATEGORIES:Kenneth Petersson,Sörgårdskyrkan
END:VEVENT
BEGIN:VEVENT
DTSTART;TZID=Europe/Stockholm:20251029T103000
DTEND;TZID=Europe/Stockholm:20251029T113000
DTSTAMP:20260419T201923
CREATED:20250922T092647Z
LAST-MODIFIED:20250922T092647Z
UID:4107-1761733800-1761737400@bottnarydallians.se
SUMMARY:Förmiddagskaffe
DESCRIPTION:Förmiddagskaffe i Sörgårdskyrkan.
URL:https://bottnarydallians.se/event/formiddagskaffe-5/
LOCATION:Sörgårdskyrkan\, Byskolevägen 34\, Bottnaryd\, 56597
CATEGORIES:Sörgårdskyrkan
END:VEVENT
END:VCALENDAR