BEGIN:VCALENDAR
VERSION:2.0
PRODID:-//Bottnaryd och Ryds alliansförsamlingar - ECPv6.11.2.1//NONSGML v1.0//EN
CALSCALE:GREGORIAN
METHOD:PUBLISH
X-WR-CALNAME:Bottnaryd och Ryds alliansförsamlingar
X-ORIGINAL-URL:https://bottnarydallians.se
X-WR-CALDESC:Händelser för Bottnaryd och Ryds alliansförsamlingar
REFRESH-INTERVAL;VALUE=DURATION:PT1H
X-Robots-Tag:noindex
X-PUBLISHED-TTL:PT1H
BEGIN:VTIMEZONE
TZID:Europe/Stockholm
BEGIN:DAYLIGHT
TZOFFSETFROM:+0100
TZOFFSETTO:+0200
TZNAME:CEST
DTSTART:20260329T010000
END:DAYLIGHT
BEGIN:STANDARD
TZOFFSETFROM:+0200
TZOFFSETTO:+0100
TZNAME:CET
DTSTART:20261025T010000
END:STANDARD
END:VTIMEZONE
BEGIN:VEVENT
DTSTART;TZID=Europe/Stockholm:20260103T180000
DTEND;TZID=Europe/Stockholm:20260103T190000
DTSTAMP:20260419T151837
CREATED:20251125T170550Z
LAST-MODIFIED:20251125T170550Z
UID:4154-1767463200-1767466800@bottnarydallians.se
SUMMARY:Konsert med Mikael Järlestrand
DESCRIPTION:Konsert med Mikael Järlestrand. Insamling till Barnmissionen.
URL:https://bottnarydallians.se/event/konsert-med-mikael-jarlestrand/
LOCATION:Allianskyrkan\, Kyrkvägen 6\, Bottnaryd\, 56576\, Sverige
END:VEVENT
BEGIN:VEVENT
DTSTART;TZID=Europe/Stockholm:20260110T110000
DTEND;TZID=Europe/Stockholm:20260110T120000
DTSTAMP:20260419T151837
CREATED:20251125T170555Z
LAST-MODIFIED:20251125T170555Z
UID:4155-1768042800-1768046400@bottnarydallians.se
SUMMARY:Andakt på Mogården
DESCRIPTION:Andakt på Mogården. Allianskyrkan ansvarar.
URL:https://bottnarydallians.se/event/andakt-pa-mogarden-25/
LOCATION:Mogården\, Mostigen 1\, Bottnaryd\, 56576\, Sverige
END:VEVENT
BEGIN:VEVENT
DTSTART;TZID=Europe/Stockholm:20260111T100000
DTEND;TZID=Europe/Stockholm:20260111T110000
DTSTAMP:20260419T151837
CREATED:20251125T170600Z
LAST-MODIFIED:20251125T170600Z
UID:4156-1768125600-1768129200@bottnarydallians.se
SUMMARY:Gudstjänst
DESCRIPTION:Gudstjänst med nattvard och månadsinsamling. Anna Klemets.
URL:https://bottnarydallians.se/event/gudstjanst-20/
LOCATION:Allianskyrkan\, Kyrkvägen 6\, Bottnaryd\, 56576\, Sverige
CATEGORIES:Anna Klemets,Gudstjänst
END:VEVENT
BEGIN:VEVENT
DTSTART;TZID=Europe/Stockholm:20260111T100000
DTEND;TZID=Europe/Stockholm:20260111T110000
DTSTAMP:20260419T151837
CREATED:20251125T170610Z
LAST-MODIFIED:20251125T170610Z
UID:4157-1768125600-1768129200@bottnarydallians.se
SUMMARY:Gudstjänst och Söndagsskola
DESCRIPTION:Gudstjänst med nattvard och månadsinsamling. Söndagsskola. Lina Skoghäll.
URL:https://bottnarydallians.se/event/gudstjanst-och-sondagsskola-2/
LOCATION:Sörgårdskyrkan\, Byskolevägen 34\, Bottnaryd\, 56597
CATEGORIES:Gudstjänst,Lina Skoghäll,Sörgårdskyrkan
END:VEVENT
BEGIN:VEVENT
DTSTART;TZID=Europe/Stockholm:20260113T183000
DTEND;TZID=Europe/Stockholm:20260113T193000
DTSTAMP:20260419T151837
CREATED:20251125T170615Z
LAST-MODIFIED:20251125T170615Z
UID:4158-1768329000-1768332600@bottnarydallians.se
SUMMARY:Ekumenisk bönesamling
DESCRIPTION:Ekumenisk bönesamling i Pingstkyrkan.
URL:https://bottnarydallians.se/event/ekumenisk-bonesamling-2/
LOCATION:Pingstkyrkan\, Stationsvägen 7\, Bottnaryd\, 56576\, Sverige
END:VEVENT
BEGIN:VEVENT
DTSTART;TZID=Europe/Stockholm:20260117T180000
DTEND;TZID=Europe/Stockholm:20260117T190000
DTSTAMP:20260419T151837
CREATED:20251125T170618Z
LAST-MODIFIED:20251125T170618Z
UID:4159-1768672800-1768676400@bottnarydallians.se
SUMMARY:Taizémässa i Bottnaryds kyrka
DESCRIPTION:Taizé gudstjänst i Svenska kyrkan.
URL:https://bottnarydallians.se/event/taizemassa-i-bottnaryds-kyrka-2/
LOCATION:Bottnaryds kyrka\, Kyrkvägen 12\, Bottnaryd\, 56576\, Sverige
END:VEVENT
BEGIN:VEVENT
DTSTART;TZID=Europe/Stockholm:20260118T100000
DTEND;TZID=Europe/Stockholm:20260118T110000
DTSTAMP:20260419T151837
CREATED:20251125T170622Z
LAST-MODIFIED:20251125T170622Z
UID:4160-1768730400-1768734000@bottnarydallians.se
SUMMARY:Ekumenisk gudstjänst
DESCRIPTION:Ekumenisk gudstjänst i Allianskyrkan.
URL:https://bottnarydallians.se/event/ekumenisk-gudstjanst/
LOCATION:Allianskyrkan\, Kyrkvägen 6\, Bottnaryd\, 56576\, Sverige
END:VEVENT
BEGIN:VEVENT
DTSTART;TZID=Europe/Stockholm:20260125T100000
DTEND;TZID=Europe/Stockholm:20260125T110000
DTSTAMP:20260419T151837
CREATED:20251125T170625Z
LAST-MODIFIED:20251125T170625Z
UID:4161-1769335200-1769338800@bottnarydallians.se
SUMMARY:Gudstjänst och årsmöte
DESCRIPTION:Gudstjänst med efterföljande årsmöte.
URL:https://bottnarydallians.se/event/gudstjanst-och-arsmote-3/
LOCATION:Allianskyrkan\, Kyrkvägen 6\, Bottnaryd\, 56576\, Sverige
CATEGORIES:Gudstjänst
END:VEVENT
BEGIN:VEVENT
DTSTART;TZID=Europe/Stockholm:20260125T100000
DTEND;TZID=Europe/Stockholm:20260125T110000
DTSTAMP:20260419T151837
CREATED:20251125T170635Z
LAST-MODIFIED:20251125T170635Z
UID:4162-1769335200-1769338800@bottnarydallians.se
SUMMARY:Vi ber och ger
DESCRIPTION:Vi ber och ger. Besök från SAM. Martin Ström.
URL:https://bottnarydallians.se/event/vi-ber-och-ger/
LOCATION:Sörgårdskyrkan\, Byskolevägen 34\, Bottnaryd\, 56597
END:VEVENT
BEGIN:VEVENT
DTSTART;TZID=Europe/Stockholm:20260128T103000
DTEND;TZID=Europe/Stockholm:20260128T113000
DTSTAMP:20260419T151837
CREATED:20251125T170639Z
LAST-MODIFIED:20251125T170639Z
UID:4163-1769596200-1769599800@bottnarydallians.se
SUMMARY:Förmiddagskaffe i Sörgårdskyrkan
DESCRIPTION:Förmiddagskaffe.
URL:https://bottnarydallians.se/event/formiddagskaffe-i-sorgardskyrkan-28/
LOCATION:Sörgårdskyrkan\, Byskolevägen 34\, Bottnaryd\, 56597
END:VEVENT
END:VCALENDAR